BEGIN:VCALENDAR
VERSION:2.0
PRODID:-//wp-events-plugin.com//7.2.3.1//EN
TZID:Europe/London
X-WR-TIMEZONE:Europe/London
BEGIN:VEVENT
UID:2603@contactdance.co.uk
DTSTART;TZID=Europe/London:20230408T183000
DTEND;TZID=Europe/London:20230408T210000
DTSTAMP:20230404T184946Z
URL:https://contactdance.co.uk/events/5101/
SUMMARY: - The Hideout Bristol - 8 Apr 23 18:30
DESCRIPTION:\nA fantastic opportunity to attend a Blindfolded Contact works
 hop with Gabriel Diamond -https://www.blindfoldedcontact.com/\nBlindfolded
  Contact Dance is a slow and gentle experience— for both beginners and e
 xperienced dancers alike. The constraint of the blindfold invites dancers 
 to explore other senses to find connection\, expression\, pleasure\, and s
 afety. These workshops take participants on a journey of somatic self-disc
 overy and non-verbal consent via solo and group exercises before culminati
 ng in a freeform blindfolded jam. We will open with a short circle address
 ing boundaries and safety. Please arrive from 6:10pm and be ready to start
  at 6:30pm. This is closed container. Late arrivals will not be admitted a
 nd will not receive a refund.\nPart of the core ethos of BFC is "the whole
  room is your partner." That means setting aside your judgments\, preferen
 ces\, and biases and dancing with everyone in the space—including by you
 rself.\nWe have a high expectation of personal responsibility and respect 
 regarding consent and boundaries. Learn more about us and read the code of
  conduct at http://www.blindfoldedcontact.com/\nIf you have a blindfold (
 or something that can be used as one)\, please bring it. Otherwise we will
  have some available.\nSuitable for any level of CI experience.\nCost - £
 15 / £12 concession - advance booking essential\nPaypal - bookings@contac
 tdance.co.uk\nBank Transfer - Bristol Contact Improvisation 08-92-99 65690
 905 - use your name as a reference\nVenue - The Hideout\, Unit 2 White Str
 eet\, St Jude's\, Bristol BS5 0TS (on street parking is free after 6pm)\nT
 he space will be open from 6:10pm for arriving and personal warm up. Pleas
 e be ready to start at 6:30pm.
ATTACH;FMTTYPE=image/jpeg:https://contactdance.co.uk/wp-content/uploads/20
 23/04/diamond.jpg
CATEGORIES:CI Workshop
LOCATION:The Hideout Bristol\, The Hideout\, Bristol\, BS5 0TS\, United Kin
 gdom
X-APPLE-STRUCTURED-LOCATION;VALUE=URI;X-ADDRESS=The Hideout\, Bristol\, BS5
  0TS\, United Kingdom;X-APPLE-RADIUS=100;X-TITLE=The Hideout Bristol:geo:0
 ,0
END:VEVENT
BEGIN:VTIMEZONE
TZID:Europe/London
X-LIC-LOCATION:Europe/London
BEGIN:DAYLIGHT
DTSTART:20230326T020000
TZOFFSETFROM:+0000
TZOFFSETTO:+0100
TZNAME:BST
END:DAYLIGHT
END:VTIMEZONE
END:VCALENDAR