BEGIN:VCALENDAR
VERSION:2.0
PRODID:-//wp-events-plugin.com//7.2.3.1//EN
TZID:Europe/London
X-WR-TIMEZONE:Europe/London
BEGIN:VEVENT
UID:2787@contactdance.co.uk
DTSTART;TZID=Europe/London:20240921T103000
DTEND;TZID=Europe/London:20250215T173000
DTSTAMP:20240716T132437Z
URL:https://contactdance.co.uk/events/basics-to-beyond-bristol-2024-2025-a
 -course-in-contact-improvisation-6-full-days-over-6-months/
SUMMARY:Basics to Beyond\, Bristol\, 2024-2025 - a course in Contact Improv
 isation - 6 full days over 6 months - St. Michael's Parish Hall - 21 Sep 2
 4 10:30
DESCRIPTION:\n\nA six-month training &amp\; exploration in CI\, led by Ashe
 r Levin.\nA foundational &amp\; adventurous journey with a steady group. 
 🌊⚓\n*study basic principles in depth\n*explore themes &amp\; share di
 scoveries\n*consolidate\, play &amp\; create in focused\, scored dances\n*
 integrate &amp\; connect in jam time\n\n🎶🎵Wonderful live music from 
 Simon Leach will accompany and inspire! 🎶🎵\nWe’ll meet one Saturda
 y per month for 6 months from September 2024 to February 2025!\n21st Septe
 mber\, 19th October\, 16th November\, 14th December\, 18th January\, &amp\
 ; 15th February\n\nTimes: 10.30am to 5.30pm\nVenue: St Michael’s Parish 
 Hall\, Park Lane\, Bristol BS2 8BE\nOpen to All – experienced Contacters
  will benefit as much as those newer to the practice. It may be compared t
 o a musician studying their scales and arpeggios and then getting creative
 !\n\n* 1 half-price practical helper place is available. Preferably for so
 meone who may not otherwise be able to afford to join. Please email me if 
 you are interested.\n**2 subsidised supported places are available (thanks
  to some generous donations of people who have contributed to a supported 
 place fund\, when buying tickets for previous events). If you need financi
 al support in order to participate\, please email me.\n\nParticipant place
 s are limited to 28 - The course sold-out last year. Please book early to 
 avoid disappointment.\ntickettailor.com/events/asherlevinevents/1189937\nF
 or more information or any queries\, please ask Asher:\nt: 07999 934369 e:
  asher.levin.mail@gmail.com\n\nA few Quotes from Basics to Beyond particip
 ants 2023-2024 (quoted with permission).\n“It was ideal for me\, I'll mi
 ss doing it every month (...) I felt increasingly more able to move in a w
 ay that felt good\, my nervous system was so regulated by each of the days
  (….) I think this was the effect of your approach [and] the group who I
  felt really comfortable with as the months went on. The check-in circles 
 and group warm-ups were also really helpful for reflection and feeling saf
 e within the group.”\n“Inspirational teaching in a supportive environm
 ent….I felt that the group dynamic developed really well.”\n“It was 
 good\, I’d do it again. Liked the format\, liked the facilitator\, liked
  the music and the musician.”\n“It was really nice to grow a trust in 
 the group.”\nA link to further quotes from participants in my CI worksho
 ps and intensives\, during the past year can be found on the event booking
  page.\ntickettailor.com/events/asherlevinevents/1189937\n(for all my othe
 r current\, live events\, go to TicketTailor.com/events/asherlevinevents\n
 Asher Levin\nis based in Dartington and loves being and interacting with t
 he land and elements. He’s been practicing Contact Improvisation\, physi
 cal theatre\, teaching and leading workshops for a quarter-century. He's t
 aught CI internationally since 2008. In CI\, play and being\, he loves the
  practice of trusting ourselves and others - even within the unknown\, and
  re-seeing the known afresh for the first time. He loves old friends too. 
 Being off-balance and free\, yet focused and caring\, as CI invites\, is i
 ncredibly liberating and enriching. In CI\, currently Asher is particularl
 y interested in the interplay of spaciousness and intimacy\, dynamic\, ten
 derness and finding the unusual. He enjoys whole group scores and the part
 ner or trio\, within the social\, physical and spiritual environment.
ATTACH;FMTTYPE=image/jpeg:https://contactdance.co.uk/wp-content/uploads/20
 24/07/basics-2024-25.jpg
CATEGORIES:CI Workshop
LOCATION:St. Michael's Parish Hall\, Park Ln\, Bristol BS2 8BE\, Bristol\, 
 BS2 8BE\, United Kingdom
GEO:51.457;-2.59932
X-APPLE-STRUCTURED-LOCATION;VALUE=URI;X-ADDRESS=Park Ln\, Bristol BS2 8BE\,
  Bristol\, BS2 8BE\, United Kingdom;X-APPLE-RADIUS=100;X-TITLE=St. Michael
 's Parish Hall:geo:51.457,-2.59932
END:VEVENT
BEGIN:VTIMEZONE
TZID:Europe/London
X-LIC-LOCATION:Europe/London
BEGIN:DAYLIGHT
DTSTART:20240331T020000
TZOFFSETFROM:+0000
TZOFFSETTO:+0100
TZNAME:BST
END:DAYLIGHT
BEGIN:STANDARD
DTSTART:20241027T010000
TZOFFSETFROM:+0100
TZOFFSETTO:+0000
TZNAME:GMT
END:STANDARD
END:VTIMEZONE
END:VCALENDAR