BEGIN:VCALENDAR
VERSION:2.0
PRODID:-//wp-events-plugin.com//7.2.3.1//EN
TZID:Europe/London
X-WR-TIMEZONE:Europe/London
BEGIN:VEVENT
UID:2743@contactdance.co.uk
DTSTART;TZID=Europe/London:20240525T110000
DTEND;TZID=Europe/London:20240525T190000
DTSTAMP:20240416T123322Z
URL:https://contactdance.co.uk/events/body-to-land-contact-improvisation/
SUMMARY:Body to Land Contact Improvisation - Eastville Park - 25 May 24 11:
 00
DESCRIPTION:\n\nA Contact Improvisation event to connect to people and land
 . A relational practice to wake up our own nature in urban wilderness.\n\n
 11-12 Arriving and Land Meditation by Rowan Quarry\n\n12-14 CI class by La
 ura Doehler\n\n14- 17 CI jam\n\n17- 19 Sauna\n\nUnwind with entering this 
 magical place near Eastville Park where nature radiaties agency and a natu
 ral spring forms the backdrop for an initial meditation for you to arrive 
 and enter a life -centric focus and practice.\n\nIt is followed by a 2 hou
 r Contact Improvisation class by Laura whose long standing CI practice (mo
 re than 10 across France\, Netherlands\, Germany\, Portugal\, Czech Republ
 ic\, Cyprus\, Turkey) has been informed greatly over the past 3 years by w
 orking outdoors in natural habitats. Her CI practice involves the body as 
 land and the land as body. It is a sense making of collectivity that expan
 ds the otherwise social focus of CI for a more wholesome ecologically incl
 usive view of togetherness. Her teachings make space for the explorative a
 nd the experiential\, instigating a freedom in movement by understanding w
 hat it is we need to root and how connectivity situates belonging and chan
 ge. More information about Laura is on her website of Exit Map\, a communi
 ty dance company she formed and is co-director of: https://www.exitmap.org
 /laura-doehler\n\nWe then transition into a jam for 3 hours.\n\nWe encoura
 ge you to bring light food to picnic and share around the spring or near t
 he dance space wherever you feel drawn to linger and rejuvenate.\n\nOur of
 fer for the closure for this extended movement practice is to stay on\, en
 joy the space and the sauna that we will fire up especially for you.\n\nBo
 oking: https://www.eventbrite.com/e/body-to-land-contact-improvisation-tic
 kets-880706154817
ATTACH;FMTTYPE=image/jpeg:https://contactdance.co.uk/wp-content/uploads/20
 24/04/Doehler.jpeg
CATEGORIES:CI Class
LOCATION:Eastville Park\, Eastville\, Bristol\, BS5 6XA\, United Kingdom
X-APPLE-STRUCTURED-LOCATION;VALUE=URI;X-ADDRESS=Eastville\, Bristol\, BS5 6
 XA\, United Kingdom;X-APPLE-RADIUS=100;X-TITLE=Eastville Park:geo:0,0
END:VEVENT
BEGIN:VTIMEZONE
TZID:Europe/London
X-LIC-LOCATION:Europe/London
BEGIN:DAYLIGHT
DTSTART:20240331T020000
TZOFFSETFROM:+0000
TZOFFSETTO:+0100
TZNAME:BST
END:DAYLIGHT
END:VTIMEZONE
END:VCALENDAR