BEGIN:VCALENDAR
VERSION:2.0
PRODID:-//wp-events-plugin.com//7.2.3.1//EN
TZID:Europe/London
X-WR-TIMEZONE:Europe/London
BEGIN:VEVENT
UID:2478@contactdance.co.uk
DTSTART;TZID=Europe/London:20220313T171500
DTEND;TZID=Europe/London:20220313T211500
DTSTAMP:20220301T130522Z
URL:https://contactdance.co.uk/events/bodywork-into-contact-improvisation-
 class-jam-2/
SUMMARY:Bodywork into Contact Improvisation Class + Jam - 58th Bristol Scou
 t Hut - 13 Mar 22 17:15
DESCRIPTION:SUNDAY\, 13 MARCH 2022 FROM 17:30-21:00\nBodywork into Contact 
 Improvisation Class + Jam\n58th Scouts Hut\, Gadshill Rd\, Eastville\, Bri
 stol BS5 6PU\n\n\n\nBodywork into Contact Improvisation Class (17.15-19.15
 )\nThese classes use bodywork as a way into Contact Improvisation through 
 working with your chosen partner for the duration of the class. They aim t
 o gently guide us into finding easeful ways to connect with ourselves and 
 our bodies to find enjoyment in moving alone and in pairs . We will explor
 e sharing space and moving with one another introducing hands on work with
  a partner with sensitivity. We will explore details of the quality of tou
 ch\, reaching into and through each other's spaces to provide the foundati
 on for trust\, listening and opening to expansive possibilities of dancing
  in and out of contact. To keep everyone safe we ask people to take a Late
 ral Flow before attending.\nDrop-in Jam (19.15-21.15)\nThe open jam follow
 s on from the class to let our dancing flow into a group awareness. People
  who have not attended the class are also welcome to drop-in to the jam.\n
 Costs per person :\n£12 Class + Jam\n£4 Drop-in Jam only\nPlease arrive 
 to start the class together promptly! We have time to close the jam and le
 ave the space by 20.30.\nBooking essential:\nPlease register for both you 
 and your dance partner together.\nInfo: bodyworkintocontact@gmail.com\nPay
 ment via Paypal: bodyworkintocontact@gmail.com\n(If you prefer to use bank
  transfer please email us and we will send you the bank details - please n
 ote these bank details are different to other bristol CI events)\nTo keep 
 everyone safe we ask everyone to take a Lateral Flow Test before coming.\n
 About the facilitators:\nJan-Ming Lee is a somatic bodyworker\, dancer\, m
 usician and facilitator. She is passionate about holding spaces for all hu
 mans to be nourished by healthy human contact - finding ways to meet each 
 other with respect\, empathy\, curiosity and creativity.\nShe is certified
  in the somatic body-based way 'The Pantarei Approach'\, has a degree in S
 ociology\, and has worked as an artist in projects spanning dance\, art in
 stallation\, interactive tech\, neuroscience\, storytelling\, spoken word\
 , improv\, sound art and education. More : http://www.bodyspoken.com\nJay
 ne Peake enjoys creating relaxed spaces to guide people into an exploratio
 n of their own unique movement. After having trained as a Fitness Instruct
 or and then in dance\, she discovered Contact Improvisation\, a practice t
 hat feeds her desire to move as a way of release\, play and freedom. This 
 practice inspires much of her current teaching\, which focuses on facilita
 ting explorations to expand our physical awareness and create new possibil
 ities of moving our bodies.\nMore : http://www.nw5dance.co.uk/people
ATTACH;FMTTYPE=image/jpeg:https://contactdance.co.uk/wp-content/uploads/20
 22/02/bodywork.jpg
CATEGORIES:CI Class,CI Jam
LOCATION:58th Bristol Scout Hut\, Gadshill Road\, Bristol\, BS5 6PU\, Unite
 d Kingdom
X-APPLE-STRUCTURED-LOCATION;VALUE=URI;X-ADDRESS=Gadshill Road\, Bristol\, B
 S5 6PU\, United Kingdom;X-APPLE-RADIUS=100;X-TITLE=58th Bristol Scout Hut:
 geo:0,0
END:VEVENT
BEGIN:VTIMEZONE
TZID:Europe/London
X-LIC-LOCATION:Europe/London
BEGIN:STANDARD
DTSTART:20211031T010000
TZOFFSETFROM:+0100
TZOFFSETTO:+0000
TZNAME:GMT
END:STANDARD
END:VTIMEZONE
END:VCALENDAR