BEGIN:VCALENDAR
VERSION:2.0
PRODID:-//wp-events-plugin.com//7.2.3.1//EN
TZID:Europe/London
X-WR-TIMEZONE:Europe/London
BEGIN:VEVENT
UID:2867@contactdance.co.uk
DTSTART;TZID=Europe/London:20251221T171500
DTEND;TZID=Europe/London:20251221T200000
DTSTAMP:20251216T130439Z
URL:https://contactdance.co.uk/events/bristol-ci-jam-8/
SUMMARY:Bristol CI Solstice Jam - St Werburghs Primary School - 21 Dec 25 1
 7:15
DESCRIPTION:\n\nSolstice Celebration Dance Jam\n\n\nCome join us next Sunda
 y the 21st for a Solstice Celebration Jam\, gathering together and bringin
 g awareness to this turning point of the year.\n\n\nAfter this day\, the l
 ight slowly begins its return. We'll honour the solstice together by danci
 ng in silence\, listening deeply to one another\, letting presence guide u
 s.\n\n\nYou’re invited to bring a lamp or small light\, helping to softl
 y illuminate the space and symbolise the returning sun\n\n\nAfter the jam\
 , we’ll have a food share\, please bring a meal\n\n\nWe look forward to 
 welcoming you into this special mid-winter jam.\n\n\nSpace Opens at: 5:15p
 m for personal warm up.Jam : 5.30pm to 7.45pmSpace Closes: 8pm (or 9pm whe
 n there is a foodshare)\nPrice: £8 supported\, £10 standard\nFor those u
 nable to afford £8 there are a limited number of tickets available for £
 5\nAny queries email info@contactdance.co.uk\nFor more info on Bristol CI 
 and Contact Improvisation. See https://contactdance.co.uk/\nNote: The are
 a is residential\, so we kindly ask attendees to park/arrive/leave quietly
  and be respectful of the neighbours.\n\nLocationSt Werburghs Primary Scho
 ol\, James Street\, Bristol\, BS2 9US\n\nBook tickets here https://www.tic
 kettailor.com/events/bristolcontactimprovisationdance/1483014
ATTACH;FMTTYPE=image/jpeg:https://contactdance.co.uk/wp-content/uploads/20
 25/06/WhatsApp-Image-2025-12-15-at-15.47.05.jpeg
CATEGORIES:CI Jam
LOCATION:St Werburghs Primary School\, James Street\, Bristol\, BS2 9US\, U
 nited Kingdom
X-APPLE-STRUCTURED-LOCATION;VALUE=URI;X-ADDRESS=James Street\, Bristol\, BS
 2 9US\, United Kingdom;X-APPLE-RADIUS=100;X-TITLE=St Werburghs Primary Sch
 ool:geo:0,0
END:VEVENT
BEGIN:VTIMEZONE
TZID:Europe/London
X-LIC-LOCATION:Europe/London
BEGIN:STANDARD
DTSTART:20251026T010000
TZOFFSETFROM:+0100
TZOFFSETTO:+0000
TZNAME:GMT
END:STANDARD
END:VTIMEZONE
END:VCALENDAR