BEGIN:VCALENDAR
VERSION:2.0
PRODID:-//wp-events-plugin.com//7.2.3.1//EN
TZID:Europe/London
X-WR-TIMEZONE:Europe/London
BEGIN:VEVENT
UID:2502@contactdance.co.uk
DTSTART;TZID=Europe/London:20220626T190000
DTEND;TZID=Europe/London:20220626T220000
DTSTAMP:20220622T114022Z
URL:https://contactdance.co.uk/events/bristol-ci-monthly-class-jam-with-ja
 n-ming-lee-and-music-from-karen-woods/
SUMMARY:Bristol CI: Monthly Class / Jam with Jan Ming Lee and music from Em
 my (harp) - St. Michael's Parish Hall - 26 Jun 22 19:00
DESCRIPTION:\nMonthly Class/Jam with Jan Ming\nWe will practice pouring int
 o and emptying out of\, as communication\, small dance\, into big dance\, 
 space. Scores are like music notes for a moving body- we will practice sco
 res that loosen our inner web of connective tissues: hooking in as myceliu
 m or moving away to find new ground. Moving as being moved. This class exp
 lores touch\, presence and mindfulness in bearing weight through the physi
 cs of gravity and consensual dancing\; material is designed to include and
  be attentive to the limits of our different bodies and capacities\n\nTo b
 ook a space\, please make payment via bank transfer or paypal. See below f
 or details:\nPrice: £18 abundant\, £14 incomed\, £12 supportive\, £8 f
 or just the jam (8:30 - 10)\nPaypal: bristolcontactjams@gmail.com\nUse fri
 ends and family when making payment. Ref: MJAM CI June\nFor bank transfer 
 please email bristolcontactjams@gmail.com
ATTACH;FMTTYPE=image/jpeg:https://contactdance.co.uk/wp-content/uploads/20
 22/02/monthly-jam.jpg
CATEGORIES:CI Class,CI Jam
LOCATION:St. Michael's Parish Hall\, Park Ln\, Bristol BS2 8BE\, Bristol\, 
 BS2 8BE\, United Kingdom
GEO:51.457;-2.59932
X-APPLE-STRUCTURED-LOCATION;VALUE=URI;X-ADDRESS=Park Ln\, Bristol BS2 8BE\,
  Bristol\, BS2 8BE\, United Kingdom;X-APPLE-RADIUS=100;X-TITLE=St. Michael
 's Parish Hall:geo:51.457,-2.59932
END:VEVENT
BEGIN:VTIMEZONE
TZID:Europe/London
X-LIC-LOCATION:Europe/London
BEGIN:DAYLIGHT
DTSTART:20220327T020000
TZOFFSETFROM:+0000
TZOFFSETTO:+0100
TZNAME:BST
END:DAYLIGHT
END:VTIMEZONE
END:VCALENDAR