BEGIN:VCALENDAR
VERSION:2.0
PRODID:-//wp-events-plugin.com//7.2.3.1//EN
TZID:Europe/London
X-WR-TIMEZONE:Europe/London
BEGIN:VEVENT
UID:2498@contactdance.co.uk
DTSTART;TZID=Europe/London:20220529T190000
DTEND;TZID=Europe/London:20220529T220000
DTSTAMP:20220518T124633Z
URL:https://contactdance.co.uk/events/bristol-ci-monthly-class-jam-with-jo
 casta-eyes-closed-eyes-open-blindfolded-ci/
SUMMARY:Bristol CI: Monthly Class / Jam with Jocasta "Eyes Closed\, Eyes Op
 en" (Blindfolded CI) - St. Michael's Parish Hall - 29 May 22 19:00
DESCRIPTION:\nMonthly Class/Jam with Jocasta "Eyes closed\, eyes open" (Bli
 ndfolded CI)\nThis class will focus on exploring how we use our eyes when 
 open. Finding eyes all over our feeling sensing bodies\, eyes open or clos
 ed. Dropping into our other senses when eyes are closed. This class will l
 ead into a slow\, soft eyes closed/blind fold jam. Eye folds provided\, bu
 t welcome to bring your own\nTo book a space\, please make payment via ban
 k transfer or paypal. See below for details:\nPrice: £18 abundant\, £14 
 incomed\, £12 supportive\, £8 jam only\nPaypal: bristolcontactjams@gmail
 .com\n7-8.30 Class\n8.30 - 10pm Jam with live music from Joe Evans\nUse fr
 iends and family when making payment. Ref: MJAM CI May2\nFor bank transfer
  please email bristolcontactjams@gmail.com
ATTACH;FMTTYPE=image/jpeg:https://contactdance.co.uk/wp-content/uploads/20
 22/02/monthly-jam.jpg
CATEGORIES:CI Class,CI Jam
LOCATION:St. Michael's Parish Hall\, Park Ln\, Bristol BS2 8BE\, Bristol\, 
 BS2 8BE\, United Kingdom
GEO:51.457;-2.59932
X-APPLE-STRUCTURED-LOCATION;VALUE=URI;X-ADDRESS=Park Ln\, Bristol BS2 8BE\,
  Bristol\, BS2 8BE\, United Kingdom;X-APPLE-RADIUS=100;X-TITLE=St. Michael
 's Parish Hall:geo:51.457,-2.59932
END:VEVENT
BEGIN:VTIMEZONE
TZID:Europe/London
X-LIC-LOCATION:Europe/London
BEGIN:DAYLIGHT
DTSTART:20220327T020000
TZOFFSETFROM:+0000
TZOFFSETTO:+0100
TZNAME:BST
END:DAYLIGHT
END:VTIMEZONE
END:VCALENDAR