BEGIN:VCALENDAR
VERSION:2.0
PRODID:-//wp-events-plugin.com//7.2.3.1//EN
TZID:Europe/London
X-WR-TIMEZONE:Europe/London
BEGIN:VEVENT
UID:2702@contactdance.co.uk
DTSTART;TZID=Europe/London:20240211T170000
DTEND;TZID=Europe/London:20240211T193000
DTSTAMP:20240130T180527Z
URL:https://contactdance.co.uk/events/bristol-ci-open-jam-2-2024-02-11/
SUMMARY:Bristol CI: Open Jam - Stapleton Church Hall - 11 Feb 24 17:00
DESCRIPTION:\n(Image by Giulia Ravarotto)\nCome and jam 2nd and 4th Sunday 
 of the month.\nJoin us for an evening of Contact Improvisation\, hosted by
  Bristol CI.\nThe session will be a jam only space\, open to all levels of
 \nexperience.\n\nEach 4th Sunday of the month will feature live improvised
  music.\nEach 2nd Sunday of the month we'll stay open until 9pm for a post
  jam foodshare. Bring something yummy!\n\nSpace Opens at: 5pm for personal
  warm up.\nJam : 5.30pm to 7.30pm\nSpace Closes: 8pm (or 9pm when there is
  a foodshare)\n\nBooking: https://www.tickettailor.com/events/bristolconta
 ctimprovisationdance/1016099?\nAny queries email info@contactdance.co.uk\n
 Price: £8 Supported\, £10 standard\n\nFor more info on Bristol CI and Co
 ntact Improvisation. See https://contactdance.co.uk/\n\nNote: The venue h
 as a car park. The area is residential\, so we kindly ask attendees to pa
 rk/arrive/leave quietly and be respectful of the neighbours.
ATTACH;FMTTYPE=image/jpeg:https://contactdance.co.uk/wp-content/uploads/20
 22/02/monthly-jam.jpg
CATEGORIES:CI Jam
LOCATION:Stapleton Church Hall\, 23 Park Rd\, Stapleton\, Bristol\, BS16 1A
 Z\, United Kingdom
X-APPLE-STRUCTURED-LOCATION;VALUE=URI;X-ADDRESS=23 Park Rd\, Stapleton\, Br
 istol\, BS16 1AZ\, United Kingdom;X-APPLE-RADIUS=100;X-TITLE=Stapleton Chu
 rch Hall:geo:0,0
END:VEVENT
BEGIN:VTIMEZONE
TZID:Europe/London
X-LIC-LOCATION:Europe/London
BEGIN:STANDARD
DTSTART:20231029T010000
TZOFFSETFROM:+0100
TZOFFSETTO:+0000
TZNAME:GMT
END:STANDARD
END:VTIMEZONE
END:VCALENDAR