BEGIN:VCALENDAR
VERSION:2.0
PRODID:-//wp-events-plugin.com//7.2.3.1//EN
TZID:Europe/London
X-WR-TIMEZONE:Europe/London
BEGIN:VEVENT
UID:2586@contactdance.co.uk
DTSTART;TZID=Europe/London:20230312T170000
DTEND;TZID=Europe/London:20230312T193000
DTSTAMP:20230228T122551Z
URL:https://contactdance.co.uk/events/bristol-ci-open-jam-2023-03-12/
SUMMARY:Bristol CI: Open Jam - 63rd Bristol Scouts Hut - 12 Mar 23 17:00
DESCRIPTION:\n\n(Image by Giulia Ravarotto)\n\nCome and jam on the 2nd and 
 4th Sundays of the month!\nJoin us for an evening of Contact Improvisation
 \, hosted by Bristol CI.\nThe session will be a jam only space\, open to a
 ll levels of experience.\n\n\nAtmospheric piano/double bass improvising du
 o Sounding Seas - Jemima Evans (piano) and Joe Evans (double bass) - will 
 provide sonic inspiration for our movement explorations.\n[wonderplugin_vi
 deo iframe="https://youtu.be/i3Up10SwF_I" lightbox=0 lightboxsize=1 lightb
 oxwidth=960 lightboxheight=540 autoopen=0 autoopendelay=0 autoclose=0 ligh
 tboxtitle="" lightboxgroup="" lightboxshownavigation=0 showimage="" lightb
 oxoptions="" videowidth=600 videoheight=400 keepaspectratio=1 autoplay=0 l
 oop=0 videocss="position:relative\;display:block\;background-color:#000\;o
 verflow:hidden\;max-width:100%\;margin:0 auto\;" playbutton="http://contac
 tdance.co.uk/wp-content/plugins/wonderplugin-video-embed/engine/playvideo-
 64-64-0.png"]\n\n\n\n\nSpace Opens at: 5pm for personal warm up.\nJam : 5.
 30pm to 7.30pm\nSpace Closes: 8pm\nTo book a space\, please make payment v
 ia bank transfer or paypal. See below for details:\nPrice: £8 Supported\,
  £10 standard\n\nPaypal: bookings@contactdance.co.uk\nBank Transfer:\nBri
 stol Contact Improvisation\nAcc - 65690905\nSort - 089299\nRef - CI JAM JA
 N (Initials)\nEmail: bookings@contactdance.co.uk\n\nRoom Capacity limited 
 to 20 people\, please book in advance to ensure you have a space.\nFor mor
 e info on Bristol CI and Contact Improvisation. See http://contactdance.c
 o.uk/\nNote: The venue is the Scouts Hut in St Andrews not Eastville\n\n
ATTACH;FMTTYPE=image/jpeg:https://contactdance.co.uk/wp-content/uploads/20
 22/02/monthly-jam.jpg
CATEGORIES:CI Jam
LOCATION:63rd Bristol Scouts Hut\, St Bartholomews Road\, St Andrews\, Bris
 tol\, BS7 9BJ\, United Kingdom
X-APPLE-STRUCTURED-LOCATION;VALUE=URI;X-ADDRESS=St Bartholomews Road\, St A
 ndrews\, Bristol\, BS7 9BJ\, United Kingdom;X-APPLE-RADIUS=100;X-TITLE=63r
 d Bristol Scouts Hut:geo:0,0
END:VEVENT
BEGIN:VTIMEZONE
TZID:Europe/London
X-LIC-LOCATION:Europe/London
BEGIN:STANDARD
DTSTART:20221030T010000
TZOFFSETFROM:+0100
TZOFFSETTO:+0000
TZNAME:GMT
END:STANDARD
END:VTIMEZONE
END:VCALENDAR