BEGIN:VCALENDAR
VERSION:2.0
PRODID:-//wp-events-plugin.com//7.2.3.1//EN
TZID:Europe/London
X-WR-TIMEZONE:Europe/London
BEGIN:VEVENT
UID:2588@contactdance.co.uk
DTSTART;TZID=Europe/London:20230409T170000
DTEND;TZID=Europe/London:20230409T193000
DTSTAMP:20230328T104434Z
URL:https://contactdance.co.uk/events/bristol-ci-open-jam-2023-04-09/
SUMMARY:Bristol CI: Open Jam - 63rd Bristol Scouts Hut - 9 Apr 23 17:00
DESCRIPTION:\n\n(Image by Giulia Ravarotto)\n\nCome and jam on the 2nd and 
 4th Sundays of the month!\nJoin us for an evening of Contact Improvisation
 \, hosted by Bristol CI.\nThe session will be a jam only space\, open to a
 ll levels of experience.\n\n\n\n2nd Sundays of the month will from now on 
 be live music nights.\n\nLive music planned for 9th April!\nJam favourite 
 Algy Behrens will be weaving magic with his guitar\, effects and loops. Le
 ts join him in creating a beautiful tapestry of sound and movement!\n\n\n\
 nSpace Opens at: 5pm for personal warm up.\nJam : 5.30pm to 7.30pm\nSpace 
 Closes: 8pm\nTo book a space\, please make payment via bank transfer or pa
 ypal. See below for details:\nPrice: £8 Supported\, £10 standard\n\nPayp
 al: bookings@contactdance.co.uk\nBank Transfer:\nBristol Contact Improvisa
 tion\nAcc - 65690905\nSort - 089299\nRef - CI JAM JAN (Initials)\nEmail: b
 ookings@contactdance.co.uk\n\nRoom Capacity limited to 20 people\, please 
 book in advance to ensure you have a space.\nFor more info on Bristol CI a
 nd Contact Improvisation. See http://contactdance.co.uk/\nNote: The venue
  is the Scouts Hut in St Andrews not Eastville
ATTACH;FMTTYPE=image/jpeg:https://contactdance.co.uk/wp-content/uploads/20
 22/02/monthly-jam.jpg
CATEGORIES:CI Jam
LOCATION:63rd Bristol Scouts Hut\, St Bartholomews Road\, St Andrews\, Bris
 tol\, BS7 9BJ\, United Kingdom
X-APPLE-STRUCTURED-LOCATION;VALUE=URI;X-ADDRESS=St Bartholomews Road\, St A
 ndrews\, Bristol\, BS7 9BJ\, United Kingdom;X-APPLE-RADIUS=100;X-TITLE=63r
 d Bristol Scouts Hut:geo:0,0
END:VEVENT
BEGIN:VTIMEZONE
TZID:Europe/London
X-LIC-LOCATION:Europe/London
BEGIN:DAYLIGHT
DTSTART:20230326T020000
TZOFFSETFROM:+0000
TZOFFSETTO:+0100
TZNAME:BST
END:DAYLIGHT
END:VTIMEZONE
END:VCALENDAR