BEGIN:VCALENDAR
VERSION:2.0
PRODID:-//wp-events-plugin.com//7.2.3.1//EN
TZID:Europe/London
X-WR-TIMEZONE:Europe/London
BEGIN:VEVENT
UID:2590@contactdance.co.uk
DTSTART;TZID=Europe/London:20230514T170000
DTEND;TZID=Europe/London:20230514T193000
DTSTAMP:20230425T094653Z
URL:https://contactdance.co.uk/events/bristol-ci-open-jam-2023-05-07/
SUMMARY:Bristol CI: Open Jam - 63rd Bristol Scouts Hut - 14 May 23 17:00
DESCRIPTION:\n\n(Image by Giulia Ravarotto)\n\nCome and jam on the 2nd and 
 4th Sundays of the month!\n\n2nd Sundays of the month will from now on be 
 live music nights.\n\nSimon Leach will provide improvised piano\, guitar a
 nd percussion. All musicians and non-musicians invited to join in. Various
  instruments and sound making devices will be available!\nJoin us for an e
 vening of Contact Improvisation\, hosted by Bristol CI.\nThe session will 
 be a jam only space\, open to all levels of experience.\n\nSpace Opens at:
  5pm for personal warm up.\nJam : 5.30pm to 7.30pm\nSpace Closes: 8pm\nTo 
 book a space\, please make payment via bank transfer. See below for detail
 s:\nPrice: £8 Supported\, £10 standard\n\nBank Transfer:\nBristol Contac
 t Improvisation\nAcc - 65690905\nSort - 089299\nRef - CI JAM JAN (Initials
 )\nEmail: bookings@contactdance.co.uk\n\nRoom Capacity limited to 20 peopl
 e\, please book in advance to ensure you have a space.\nFor more info on B
 ristol CI and Contact Improvisation. See http://contactdance.co.uk/\nNote
 : The venue is the Scouts Hut in St Andrews not Eastville
ATTACH;FMTTYPE=image/jpeg:https://contactdance.co.uk/wp-content/uploads/20
 22/02/monthly-jam.jpg
CATEGORIES:CI Jam
LOCATION:63rd Bristol Scouts Hut\, St Bartholomews Road\, St Andrews\, Bris
 tol\, BS7 9BJ\, United Kingdom
X-APPLE-STRUCTURED-LOCATION;VALUE=URI;X-ADDRESS=St Bartholomews Road\, St A
 ndrews\, Bristol\, BS7 9BJ\, United Kingdom;X-APPLE-RADIUS=100;X-TITLE=63r
 d Bristol Scouts Hut:geo:0,0
END:VEVENT
BEGIN:VTIMEZONE
TZID:Europe/London
X-LIC-LOCATION:Europe/London
BEGIN:DAYLIGHT
DTSTART:20230326T020000
TZOFFSETFROM:+0000
TZOFFSETTO:+0100
TZNAME:BST
END:DAYLIGHT
END:VTIMEZONE
END:VCALENDAR