BEGIN:VCALENDAR
VERSION:2.0
PRODID:-//wp-events-plugin.com//7.2.3.1//EN
TZID:Europe/London
X-WR-TIMEZONE:Europe/London
BEGIN:VEVENT
UID:2530@contactdance.co.uk
DTSTART;TZID=Europe/London:20221030T173000
DTEND;TZID=Europe/London:20221030T193000
DTSTAMP:20221011T101231Z
URL:https://contactdance.co.uk/events/bristol-ci-open-jam-3/
SUMMARY:Bristol CI: Open Jam - 63rd Bristol Scouts Hut - 30 Oct 22 17:30
DESCRIPTION:\nCome join us for an evening of Contact Improvisation\, hosted
  by Bristol CI.\nThe session will be a jam only space\, open to all levels
  of experience.\nMusicians welcome! Please bring an instrument if your int
 erested in playing improvised music in the jam.\nSpace Opens at: 5pm\nJam 
 : 5.30pm to 7.30pm\nSpace Closes: 8pm\n\nTo book a space\, please make pay
 ment via bank transfer or paypal. See below for details:\nPrice: £8 Suppo
 rted\, £10 standard\n\nPaypal: bookings@contactdance.co.uk\nBank Transfer
 :\nBristol Contact Improvisation\nAcc - 65690905\nSort - 089299\nRef - CI 
 JAM OCT (Initials)\nEmail: bookings@contactdance.co.uk\n\nRoom Capacity li
 mited to 20 people\, please book in advance to ensure you have a space.\nF
 or more info on Bristol CI and Contact Improvisation. See http://contactd
 ance.co.uk/\nNote: The venue is the Scouts Hut in St Andrews not Eastville
ATTACH;FMTTYPE=image/jpeg:https://contactdance.co.uk/wp-content/uploads/20
 22/02/monthly-jam.jpg
CATEGORIES:CI Jam
LOCATION:63rd Bristol Scouts Hut\, St Bartholomews Road\, St Andrews\, Bris
 tol\, BS7 9BJ\, United Kingdom
X-APPLE-STRUCTURED-LOCATION;VALUE=URI;X-ADDRESS=St Bartholomews Road\, St A
 ndrews\, Bristol\, BS7 9BJ\, United Kingdom;X-APPLE-RADIUS=100;X-TITLE=63r
 d Bristol Scouts Hut:geo:0,0
END:VEVENT
BEGIN:VTIMEZONE
TZID:Europe/London
X-LIC-LOCATION:Europe/London
BEGIN:STANDARD
DTSTART:20221030T010000
TZOFFSETFROM:+0100
TZOFFSETTO:+0000
TZNAME:GMT
END:STANDARD
END:VTIMEZONE
END:VCALENDAR