BEGIN:VCALENDAR
VERSION:2.0
PRODID:-//wp-events-plugin.com//7.2.3.1//EN
TZID:Europe/London
X-WR-TIMEZONE:Europe/London
BEGIN:VEVENT
UID:2712@contactdance.co.uk
DTSTART;TZID=Europe/London:20240623T170000
DTEND;TZID=Europe/London:20240623T193000
DTSTAMP:20240430T103934Z
URL:https://contactdance.co.uk/events/bristol-ci-open-jam-6/
SUMMARY:Bristol CI: Open Jam - 58th Bristol Scout Hut - 23 Jun 24 17:00
DESCRIPTION:\n\n(Image by Giulia Ravarotto)\nCome and jam 2nd and 4th Sunda
 y of the month.\nJoin us for an evening of Contact Improvisation\, hosted 
 by Bristol CI.\nThe session will be a jam only space\, open to all levels 
 of\nexperience.\n\nEach 4th Sunday of the month will feature live improvis
 ed music.\nEach 2nd Sunday of the month we'll stay open until 9pm for a po
 st jam foodshare. Bring something yummy!\n\nSpace Opens at: 5pm for person
 al warm up.\nJam : 5.30pm to 7.30pm\nSpace Closes: 8pm (or 9pm when there 
 is a foodshare)\n\nBooking: https://www.tickettailor.com/events/bristolcon
 tactimprovisationdance/1016099?\nAny queries email info@contactdance.co.uk
 \nPrice: £8 Supported\, £10 standard\n\n\nWe don't want to exclude anyon
 e because of financial circumstances. Please contact us at info@contactdan
 ce.co.uk if you can't afford the concession price.\n\nWe don't want to exc
 lude anyone because of financial circumstances. Please contact us at info@
 contactdance.co.uk if you can't afford the concession price.\n\n\nFor more
  info on Bristol CI and Contact Improvisation. See https://contactdance.c
 o.uk/\n\nNote: The venue has a car park. The area is residential\, so we 
 kindly ask attendees to park/arrive/leave quietly and be respectful of the
  neighbours.\n
ATTACH;FMTTYPE=image/jpeg:https://contactdance.co.uk/wp-content/uploads/20
 22/02/monthly-jam.jpg
CATEGORIES:CI Jam
LOCATION:58th Bristol Scout Hut\, Gadshill Road\, Bristol\, BS5 6PU\, Unite
 d Kingdom
X-APPLE-STRUCTURED-LOCATION;VALUE=URI;X-ADDRESS=Gadshill Road\, Bristol\, B
 S5 6PU\, United Kingdom;X-APPLE-RADIUS=100;X-TITLE=58th Bristol Scout Hut:
 geo:0,0
END:VEVENT
BEGIN:VTIMEZONE
TZID:Europe/London
X-LIC-LOCATION:Europe/London
BEGIN:DAYLIGHT
DTSTART:20240331T020000
TZOFFSETFROM:+0000
TZOFFSETTO:+0100
TZNAME:BST
END:DAYLIGHT
END:VTIMEZONE
END:VCALENDAR