BEGIN:VCALENDAR
VERSION:2.0
PRODID:-//wp-events-plugin.com//7.2.3.1//EN
TZID:Europe/London
X-WR-TIMEZONE:Europe/London
BEGIN:VEVENT
UID:2546@contactdance.co.uk
DTSTART;TZID=Europe/London:20221216T093000
DTEND;TZID=Europe/London:20221216T113000
DTSTAMP:20221117T183642Z
URL:https://contactdance.co.uk/events/bristol-ci-practice-group-2022-12-16
 /
SUMMARY:Bristol CI Practice Group - The Hideout Bristol - 16 Dec 22 09:30
DESCRIPTION:A group for CI enthusiasts committed to a regular rigorous CI p
 ractice. This is a self-facilitated\, dedicated group practice space\, co-
 created by all. Some grounding in CI is needed to join.\n\nTime: Friday Mo
 rnings 9.30-11.30am\nWhen: Starting 30th September through to 16th Decembe
 r. The plan is to continue into the new year.\nPlace: The Hideout Bristol\
 , Unit 2\, White Street\, St Judes\, BS5 0TS (www.thehideoutbristol.co.uk)
 \nCommitment: this group asks for a commitment to attend\, to support a de
 pth of practice as we move together over time. Initially for the whole 12 
 weeks until mid December.\nCost: shared equally\, currently less than £3 
 per session. Once committed\, you are asked to pay for the rest of the sem
 ester upfront.\n\nThis is a closed group\, to facilitate a depth of focus 
 and practice. As decided by the group\, newcomers may be invited to join a
 t points\, either during this first semester\, or in the new year.\n\nTher
 e is currently scope for a few new people to join the group. To find out m
 ore\, contact Saskia on 07904 121 646 briefly sharing what interests you i
 n joining this group\, and what you would bring to the practice. Alternati
 vely\, connect with one of the existing members of the group if you know a
 ny of them\, to discuss if it is something that would suit.\n\nPlease cont
 act us first before turning up\, as space is limited.
ATTACH;FMTTYPE=image/jpeg:https://contactdance.co.uk/wp-content/uploads/20
 22/09/saskia.jpeg
CATEGORIES:CI Practice Group
LOCATION:The Hideout Bristol\, The Hideout\, Bristol\, BS5 0TS\, United Kin
 gdom
X-APPLE-STRUCTURED-LOCATION;VALUE=URI;X-ADDRESS=The Hideout\, Bristol\, BS5
  0TS\, United Kingdom;X-APPLE-RADIUS=100;X-TITLE=The Hideout Bristol:geo:0
 ,0
END:VEVENT
BEGIN:VTIMEZONE
TZID:Europe/London
X-LIC-LOCATION:Europe/London
BEGIN:STANDARD
DTSTART:20221030T010000
TZOFFSETFROM:+0100
TZOFFSETTO:+0000
TZNAME:GMT
END:STANDARD
END:VTIMEZONE
END:VCALENDAR