BEGIN:VCALENDAR
VERSION:2.0
PRODID:-//wp-events-plugin.com//7.2.3.1//EN
TZID:Europe/London
X-WR-TIMEZONE:Europe/London
BEGIN:VEVENT
UID:2612@contactdance.co.uk
DTSTART;TZID=Europe/London:20230602T093000
DTEND;TZID=Europe/London:20230602T113000
DTSTAMP:20230424T140553Z
URL:https://contactdance.co.uk/events/bristol-ci-practice-group-3-2023-06-
 02/
SUMMARY:Bristol CI Practice Group - The Trinity Centre - 2 Jun 23 09:30
DESCRIPTION:A group for CI enthusiasts committed to a regular rigorous CI 
 practice. This is a self-facilitated\, dedicated group practice space\, co
 -created by all. Grounding in CI is needed to join.\n\nTime: Friday Mornin
 gs 9.30-11.30am\nPlace: The summer term will take place between Space 238 
 &amp\; Fyfe Hall at Trinity\nCommitment: this group asks for a commitment 
 to attend\, to support a depth of practice as we move together over time. 
 Currently we do this by semester.\nCost: shared equally\, currently roughl
 y £4 per session per person. Once committed\, you are asked to pay for th
 e rest of the semester upfront.\n\nThis is a closed group\, to facilitate 
 a depth of focus and practice. As decided by the group\, newcomers may be 
 invited to join at points\, either during the existing semester\, or at th
 e beginning of the next.\n\nPlease contact us first before turning up\, as
  space is limited.\n\n\n\nPlease note\, for Friday 28th April and 5th May 
 at The Fyfe Hall\, Trinity\n\nWe would like to open up for anyone who feel
  they may like to commit to join us. £10 (for 2 sessions try out). This i
 s still a non-lead self-practice group\, so any visitors would need ground
 ing in CI and be comfortable to find their own way into the dance. If you 
 want to join\, contact myself\, or one of the existing members if you know
  any of them.  Saskia on 07904 121 646 \n\n
ATTACH;FMTTYPE=image/jpeg:https://contactdance.co.uk/wp-content/uploads/20
 22/09/saskia.jpeg
CATEGORIES:CI Practice Group
LOCATION:The Trinity Centre\, Trinity Road\, Bristol\, BS2 0NW\, United Kin
 gdom
GEO:51.4584901;-2.57659979999994
X-APPLE-STRUCTURED-LOCATION;VALUE=URI;X-ADDRESS=Trinity Road\, Bristol\, BS
 2 0NW\, United Kingdom;X-APPLE-RADIUS=100;X-TITLE=The Trinity Centre:geo:5
 1.4584901,-2.57659979999994
END:VEVENT
BEGIN:VTIMEZONE
TZID:Europe/London
X-LIC-LOCATION:Europe/London
BEGIN:DAYLIGHT
DTSTART:20230326T020000
TZOFFSETFROM:+0000
TZOFFSETTO:+0100
TZNAME:BST
END:DAYLIGHT
END:VTIMEZONE
END:VCALENDAR