BEGIN:VCALENDAR
VERSION:2.0
PRODID:-//wp-events-plugin.com//7.2.3.1//EN
TZID:Europe/London
X-WR-TIMEZONE:Europe/London
BEGIN:VEVENT
UID:2414@contactdance.co.uk
DTSTART;TZID=Europe/London:20190512T170000
DTEND;TZID=Europe/London:20190512T203000
DTSTAMP:20190509T142735Z
URL:https://contactdance.co.uk/events/bristol-ci-sunday-class-5-630-and-ja
 m-630-830-2019-05-12/
SUMMARY:Bristol CI Sunday Class     (5 - 6:30) and Jam (6:30 - 8:30) - DMAC
 \, (4th Floor) Hamilton House - 12 May 19 17:00
DESCRIPTION:Beginner friendly pre-jam warmup class 5-6:30pm followed by the
  jam 6:30-8:30pm. Doors will be closed for the duration of the class to ke
 ep the focus\, so please arrive early to attend the class\, you can arrive
  at any time for the jam. Class or jam - £6\, both - £9\, or book on Mov
 eGB.\n\nFor more information feel free to contact the teacher/facilitator 
 or info@contactdance.co.uk. We send out regular emails of class descriptio
 ns\, to get these\, please sign-up to our mailing list.\nClass Description
 \n\nInspired by last week’s class by Bryn Thomas\, this week’s class w
 ill focus on taking our attention inside the “room of our own bodies” 
 and practicing detailed awareness from within.\nHow can we attain a high l
 evel of presence with the partner and the dancing landscape all around whe
 n we subtract the dominant sense - our vision?\nParticipants will be guide
 d through simple\, kinetically low and slow exercises to explore and accus
 tom to the intimate experience of being BLINDFOLDED. As we take our vision
  out of the experience\, will heighten other senses - mostly the skin. The
  skin excursion dance scores will facilitate this\, and help us connect\, 
 listen\, lead\, be surprised.\nCan we still have a sense of continual cont
 ribution to a larger emerging body of improvisation beyond our own skinesp
 heres\, in the room full of blindfolded movers?\nSoft eye mask covers will
  be provided and sighted spotters will watch out for the blindfolded dance
 rs safety.\n\nThe Jam\nA jam is an informal gathering of dancers. There is
  no teacher\, but space and time to develop skills and confidence. You are
  free to dance\, rest\, or sit and watch\, as you wish. The jam provides a
 n opportunity to explore and integrate techniques you have learned\, and t
 o find your own routes into dancing.\n\nAt some jams a teacher will facili
 tate a score to follow such as a focused (silent) jam\, the Underscore (de
 veloped by Nancy Stark-Smith)\, or a blindfold (or eyes-closed) jam\, this
  will normally be advertised via our regular mailout – so sign-up if you
  want advance notice.\n\n 	Live musicians will improvise with the dancing 
 at many of the jams.\n 	For more information\, please email info@contactda
 nce.co.uk or contact the individual teachers.\n
ATTACH;FMTTYPE=image/jpeg:https://contactdance.co.uk/wp-content/uploads/20
 11/07/feet6.jpg
CATEGORIES:CI Class,CI Jam
LOCATION:DMAC\, (4th Floor) Hamilton House\, 80 Stokes Croft\, Bristol\, BS
 1 3QY\, United Kingdom
GEO:51.4629;-2.58991
X-APPLE-STRUCTURED-LOCATION;VALUE=URI;X-ADDRESS=80 Stokes Croft\, Bristol\,
  BS1 3QY\, United Kingdom;X-APPLE-RADIUS=100;X-TITLE=DMAC\, (4th Floor) Ha
 milton House:geo:51.4629,-2.58991
END:VEVENT
BEGIN:VTIMEZONE
TZID:Europe/London
X-LIC-LOCATION:Europe/London
BEGIN:DAYLIGHT
DTSTART:20190331T020000
TZOFFSETFROM:+0000
TZOFFSETTO:+0100
TZNAME:BST
END:DAYLIGHT
END:VTIMEZONE
END:VCALENDAR