BEGIN:VCALENDAR
VERSION:2.0
PRODID:-//wp-events-plugin.com//7.2.3.1//EN
TZID:Europe/London
X-WR-TIMEZONE:Europe/London
BEGIN:VEVENT
UID:2417@contactdance.co.uk
DTSTART;TZID=Europe/London:20190602T170000
DTEND;TZID=Europe/London:20190602T203000
DTSTAMP:20190529T183826Z
URL:https://contactdance.co.uk/events/bristol-ci-sunday-class-5-630-and-ja
 m-630-830-2019-06-02/
SUMMARY:Bristol CI Sunday Class     (5 - 6:30) and Jam (6:30 - 8:30) - DMAC
 \, (4th Floor) Hamilton House - 2 Jun 19 17:00
DESCRIPTION:Beginner friendly pre-jam warmup class 5-6:30pm followed by the
  jam 6:30-8:30pm. Doors will be closed for the duration of the class to ke
 ep the focus\, so please arrive early to attend the class\, you can arrive
  at any time for the jam. Class or jam - £6\, both - £9\, or book on Mov
 eGB.\n\nFor more information feel free to contact the teacher/facilitator 
 or info@contactdance.co.uk. We send out regular emails of class descriptio
 ns\, to get these\, please sign-up to our mailing list.\nClass Description
 \n\n\nFallen Angel\n\nWe will explore how to find our wings in this CI cla
 ss. Going from creating movement structures that will include giving and r
 eceiving weight and direction to one another\, we will explore oscillating
  to the energy of shared discovery of the liminal space of spontaneous col
 laboration.\n\nSam Bloomfield: Multi Modal Dance Movement Psychotherapist 
 and CI facilitator.\nThe Jam\nA jam is an informal gathering of dancers. T
 here is no teacher\, but space and time to develop skills and confidence. 
 You are free to dance\, rest\, or sit and watch\, as you wish. The jam pro
 vides an opportunity to explore and integrate techniques you have learned\
 , and to find your own routes into dancing.\n\nAt some jams a teacher will
  facilitate a score to follow such as a focused (silent) jam\, the Undersc
 ore (developed by Nancy Stark-Smith)\, or a blindfold (or eyes-closed) jam
 \, this will normally be advertised via our regular mailout – so sign-up
  if you want advance notice.\n\n 	Live musicians will improvise with the d
 ancing at many of the jams.\n 	For more information\, please email info@co
 ntactdance.co.uk or contact the individual teachers.\n
ATTACH;FMTTYPE=image/jpeg:https://contactdance.co.uk/wp-content/uploads/20
 11/07/feet6.jpg
CATEGORIES:CI Class,CI Jam
LOCATION:DMAC\, (4th Floor) Hamilton House\, 80 Stokes Croft\, Bristol\, BS
 1 3QY\, United Kingdom
GEO:51.4629;-2.58991
X-APPLE-STRUCTURED-LOCATION;VALUE=URI;X-ADDRESS=80 Stokes Croft\, Bristol\,
  BS1 3QY\, United Kingdom;X-APPLE-RADIUS=100;X-TITLE=DMAC\, (4th Floor) Ha
 milton House:geo:51.4629,-2.58991
END:VEVENT
BEGIN:VTIMEZONE
TZID:Europe/London
X-LIC-LOCATION:Europe/London
BEGIN:DAYLIGHT
DTSTART:20190331T020000
TZOFFSETFROM:+0000
TZOFFSETTO:+0100
TZNAME:BST
END:DAYLIGHT
END:VTIMEZONE
END:VCALENDAR