BEGIN:VCALENDAR
VERSION:2.0
PRODID:-//wp-events-plugin.com//7.2.3.1//EN
TZID:Europe/London
X-WR-TIMEZONE:Europe/London
BEGIN:VEVENT
UID:2418@contactdance.co.uk
DTSTART;TZID=Europe/London:20190609T170000
DTEND;TZID=Europe/London:20190609T203000
DTSTAMP:20190608T083142Z
URL:https://contactdance.co.uk/events/bristol-ci-sunday-class-5-630-and-ja
 m-630-830-2019-06-09/
SUMMARY:Bristol CI Sunday Class     (5 - 6:30) and Jam (6:30 - 8:30) - DMAC
 \, (4th Floor) Hamilton House - 9 Jun 19 17:00
DESCRIPTION:Beginner friendly pre-jam warmup class 5-6:30pm followed by the
  jam 6:30-8:30pm. Doors will be closed for the duration of the class to ke
 ep the focus\, so please arrive early to attend the class\, you can arrive
  at any time for the jam. Class or jam - £6\, both - £9\, or book on Mov
 eGB.\n\nFor more information feel free to contact the teacher/facilitator 
 or info@contactdance.co.uk. We send out regular emails of class descriptio
 ns\, to get these\, please sign-up to our mailing list.\nClass Description
 \n\nOpening pores of our skin\, becoming permeable\nAllowing air\, smells 
 and sounds to come in from outside\nFeeling beyond the skill\nConnecting\n
 \nKlara Łucznik is an improviser and dance artist interested in designing
  participatory experiences for a wide range of audiences. In her improvisa
 tion\, she is deeply dedicated to the practice of listening with all the s
 enses and finding connections with others\, in physical contact and throug
 h the space. She explores both\, ensemble and contact improvisation tools\
 , studying the nature of human interactions. Klara is also a researcher\, 
 she obtained her PhD studying collaborations and creativity in dance throu
 gh cognitive psychology lenses.\nThe Jam\nA jam is an informal gathering o
 f dancers. There is no teacher\, but space and time to develop skills and 
 confidence. You are free to dance\, rest\, or sit and watch\, as you wish.
  The jam provides an opportunity to explore and integrate techniques you h
 ave learned\, and to find your own routes into dancing.\n\nAt some jams a 
 teacher will facilitate a score to follow such as a focused (silent) jam\,
  the Underscore (developed by Nancy Stark-Smith)\, or a blindfold (or eyes
 -closed) jam\, this will normally be advertised via our regular mailout 
 – so sign-up if you want advance notice.\n\n 	Live musicians will improv
 ise with the dancing at many of the jams.\n 	For more information\, please
  email info@contactdance.co.uk or contact the individual teachers.\n
ATTACH;FMTTYPE=image/jpeg:https://contactdance.co.uk/wp-content/uploads/20
 11/07/feet6.jpg
CATEGORIES:CI Class,CI Jam
LOCATION:DMAC\, (4th Floor) Hamilton House\, 80 Stokes Croft\, Bristol\, BS
 1 3QY\, United Kingdom
GEO:51.4629;-2.58991
X-APPLE-STRUCTURED-LOCATION;VALUE=URI;X-ADDRESS=80 Stokes Croft\, Bristol\,
  BS1 3QY\, United Kingdom;X-APPLE-RADIUS=100;X-TITLE=DMAC\, (4th Floor) Ha
 milton House:geo:51.4629,-2.58991
END:VEVENT
BEGIN:VTIMEZONE
TZID:Europe/London
X-LIC-LOCATION:Europe/London
BEGIN:DAYLIGHT
DTSTART:20190331T020000
TZOFFSETFROM:+0000
TZOFFSETTO:+0100
TZNAME:BST
END:DAYLIGHT
END:VTIMEZONE
END:VCALENDAR