BEGIN:VCALENDAR
VERSION:2.0
PRODID:-//wp-events-plugin.com//7.2.3.1//EN
TZID:Europe/London
X-WR-TIMEZONE:Europe/London
BEGIN:VEVENT
UID:2396@contactdance.co.uk
DTSTART;TZID=Europe/London:20190331T170000
DTEND;TZID=Europe/London:20190331T203000
DTSTAMP:20190329T171434Z
URL:https://contactdance.co.uk/events/bristol-ci-sunday-class-and-jam-2019
 -03-31/
SUMMARY:Bristol CI Sunday Class     (5 - 6:30) and Jam (6:30 - 8:30) - DMAC
 \, (4th Floor) Hamilton House - 31 Mar 19 17:00
DESCRIPTION:Beginner friendly pre-jam warmup class 5-6:30pm followed by the
  jam 6:30-8:30pm. Doors will be closed for the duration of the class to ke
 ep the focus\, so please arrive early to attend the class\, you can arrive
  at any time for the jam. Class or jam - £6\, both - £9\, or book on Mov
 eGB.\n\nFor more information feel free to contact the teacher/facilitator 
 or info@contactdance.co.uk. We send out regular emails of class descriptio
 ns\, to get these\, please sign-up to our mailing list.\nClass Description
 \n\n\n\nMoving into the space behind you\n\nExploring the back\, wideness 
 of the space\nSensing without seeing\, seeing without eyes\nsoftness\, art
 iculation and support. Offering dance\, offering landscapes\nMelting into 
 stability\n\nThis class brings awareness to our backs and sensing the spac
 e behind us.\n\nAbout Klara\nKlara Łucznik is an improviser and dance art
 ist interested in designing participatory experiences for a wide range of 
 audiences. In her improvisation\, she is deeply dedicated to the practice 
 of listening with all the senses and finding connections with others\, in 
 physical contact and through the space. She explores both\, ensemble and c
 ontact improvisation tools\, studying the nature of human interactions. Kl
 ara is also a researcher\, she obtained her PhD studying collaborations an
 d creativity in dance through cognitive psychology lenses.\n\nThe Jam\nA j
 am is an informal gathering of dancers. There is no teacher\, but space an
 d time to develop skills and confidence. You are free to dance\, rest\, or
  sit and watch\, as you wish. The jam provides an opportunity to explore a
 nd integrate techniques you have learned\, and to find your own routes int
 o dancing.\n\nAt some jams a teacher will facilitate a score to follow suc
 h as a focused (silent) jam\, the Underscore (developed by Nancy Stark-Smi
 th)\, or a blindfold (or eyes-closed) jam\, this will normally be advertis
 ed via our regular mailout – so sign-up if you want advance notice.\n\n 
 	Live musicians will improvise with the dancing at many of the jams.\n 	Fo
 r more information\, please email info@contactdance.co.uk or contact the i
 ndividual teachers.\n
ATTACH;FMTTYPE=image/jpeg:https://contactdance.co.uk/wp-content/uploads/20
 11/07/feet6.jpg
CATEGORIES:CI Class,CI Jam
LOCATION:DMAC\, (4th Floor) Hamilton House\, 80 Stokes Croft\, Bristol\, BS
 1 3QY\, United Kingdom
GEO:51.4629;-2.58991
X-APPLE-STRUCTURED-LOCATION;VALUE=URI;X-ADDRESS=80 Stokes Croft\, Bristol\,
  BS1 3QY\, United Kingdom;X-APPLE-RADIUS=100;X-TITLE=DMAC\, (4th Floor) Ha
 milton House:geo:51.4629,-2.58991
END:VEVENT
BEGIN:VTIMEZONE
TZID:Europe/London
X-LIC-LOCATION:Europe/London
BEGIN:DAYLIGHT
DTSTART:20190331T020000
TZOFFSETFROM:+0000
TZOFFSETTO:+0100
TZNAME:BST
END:DAYLIGHT
END:VTIMEZONE
END:VCALENDAR