BEGIN:VCALENDAR
VERSION:2.0
PRODID:-//wp-events-plugin.com//7.2.3.1//EN
TZID:Europe/London
X-WR-TIMEZONE:Europe/London
BEGIN:VEVENT
UID:2172@contactdance.co.uk
DTSTART;TZID=Europe/London:20170122T170000
DTEND;TZID=Europe/London:20170122T203000
DTSTAMP:20170118T221012Z
URL:https://contactdance.co.uk/events/bristol-ci-sunday-class-jam-10-2017-
 01-22/
SUMMARY:BRISTOL CI: SUNDAY CLASS & JAM - DMAC\, (4th Floor) Hamilton House 
 - 22 Jan 17 17:00
DESCRIPTION:Beginner friendly pre-jam warmup class 5-6.30pm followed by the
  jam 6.30-8.30pm. Doors will be closed for the duration of the class to ke
 ep the focus\, so please arrive early to attend the class\, you can arrive
  at any time for the jam. Dancers can come just for the class\, £6\, or s
 tay for the jam\, £9. Both also available to book via MoveGB.\n\nFor more
  information feel free to contact the teacher/facilitator or info@contac
 tdance.co.uk. We send out regular emails of class descriptions\, to get th
 ese\, please sign-up to our mailing list.\nClass Description\n\n\nContac
 t Improvisation Sunday skills class with Maga\n\nWe will explore the techn
 ical parts of contact improvisation (such as handstands and backbends) in 
 different scenarios\, first practicing the skills separately and then whil
 e dancing.\nThe class will begin with a fairly intense warm up\, including
  a lot of conditioning. We will go through principles of rolling on the fl
 oor and then expanding through to improvisation tasks and handstand / back
 bend techniques with a partner. To help contextualise we will also revisit
  some basics: rolling points of contact\, sharing of the spine\, perceivin
 g and following\, and making suggestions to take our dance into new and ex
 citing places. The class is suitable for all levels.\n\nMaga Radlowska (PL
 /UK) - contact improvisation dancer\, performer\, choreographer\, improvis
 er and teacher. Magdalena graduated from London Contemporary Dance School 
 and Middlesex University in London\, and has fifteen years professional ex
 perience in contact improvisation\, contemporary dance\, physical theatre 
 and improvisation. Magdalena was co-organiser for ECITE 2013 in Poland\, a
 nd has taught CI in many festivals in Poland and abroad. She regularly tea
 ches CI workshops\, Bristol\, Brighton and London Contact Improvisation cl
 asses\, as well as being a lecturer in CI at Middlesex University.\nThe Ja
 m\nA jam is an informal gathering of dancers. There is no teacher\, but sp
 ace and time to develop skills and confidence. You are free to dance\, res
 t\, or sit and watch\, as you wish. The jam provides an opportunity to exp
 lore and integrate techniques you have learned\, and to find your own rout
 es into dancing.\n\nAt some jams a teacher will facilitate a score to foll
 ow such as a focused (silent) jam\, the Underscore (developed by Nancy Sta
 rk-Smith)\, or a blindfold (or eyes-closed) jam\, this will normally be ad
 vertised via our regular mailout – so sign-up if you want advance noti
 ce.\n\n 	Live musicians will improvise with the dancing at many of the j
 ams.\n 	For more information\, please email info@contactdance.co.uk or con
 tact the individual teachers.\n
ATTACH;FMTTYPE=image/jpeg:https://contactdance.co.uk/wp-content/uploads/20
 12/01/feet6.jpg
CATEGORIES:CI Class,CI Jam
LOCATION:DMAC\, (4th Floor) Hamilton House\, 80 Stokes Croft\, Bristol\, BS
 1 3QY\, United Kingdom
GEO:51.4629;-2.58991
X-APPLE-STRUCTURED-LOCATION;VALUE=URI;X-ADDRESS=80 Stokes Croft\, Bristol\,
  BS1 3QY\, United Kingdom;X-APPLE-RADIUS=100;X-TITLE=DMAC\, (4th Floor) Ha
 milton House:geo:51.4629,-2.58991
END:VEVENT
BEGIN:VTIMEZONE
TZID:Europe/London
X-LIC-LOCATION:Europe/London
BEGIN:STANDARD
DTSTART:20161030T010000
TZOFFSETFROM:+0100
TZOFFSETTO:+0000
TZNAME:GMT
END:STANDARD
END:VTIMEZONE
END:VCALENDAR