BEGIN:VCALENDAR
VERSION:2.0
PRODID:-//wp-events-plugin.com//7.2.3.1//EN
TZID:Europe/London
X-WR-TIMEZONE:Europe/London
BEGIN:VEVENT
UID:2173@contactdance.co.uk
DTSTART;TZID=Europe/London:20170129T170000
DTEND;TZID=Europe/London:20170129T203000
DTSTAMP:20170125T092200Z
URL:https://contactdance.co.uk/events/bristol-ci-sunday-class-jam-10-2017-
 01-29/
SUMMARY:BRISTOL CI: SUNDAY CLASS & JAM - DMAC\, (4th Floor) Hamilton House 
 - 29 Jan 17 17:00
DESCRIPTION:Beginner friendly pre-jam warmup class 5-6.30pm followed by the
  jam 6.30-8.30pm. Doors will be closed for the duration of the class to ke
 ep the focus\, so please arrive early to attend the class\, you can arrive
  at any time for the jam. Dancers can come just for the class\, £6\, or s
 tay for the jam\, £9. Both also available to book via MoveGB.\n\nFor more
  information feel free to contact the teacher/facilitator or info@contac
 tdance.co.uk. We send out regular emails of class descriptions\, to get th
 ese\, please sign-up to our mailing list.\nClass Description\n&nbsp\;\n\
 n\n\n&nbsp\;\n\nContruction and Deconstruction\n\nUsing counter balance to
  construct\, a constantly balancing unit of more than one body\, then lett
 ing go (deconstructing) to see where the momentum can take us.\n\nInto a n
 ew balancing shape? Or somewhere else?\n\nIf walking can be described as a
  process of falling and catching yourself\, this class will explore the sa
 me principle but instead of keeping ourselves upright\, sometimes we will 
 let gravity win.\n\nThis is a basic skills class suitable for all levels o
 f experience.\nKey concepts: Trust\, balance\, momentum and falling.\nThe 
 Jam\nA jam is an informal gathering of dancers. There is no teacher\, but 
 space and time to develop skills and confidence. You are free to dance\, r
 est\, or sit and watch\, as you wish. The jam provides an opportunity to e
 xplore and integrate techniques you have learned\, and to find your own ro
 utes into dancing.\n\nAt some jams a teacher will facilitate a score to fo
 llow such as a focused (silent) jam\, the Underscore (developed by Nancy S
 tark-Smith)\, or a blindfold (or eyes-closed) jam\, this will normally be 
 advertised via our regular mailout – so sign-up if you want advance no
 tice.\n\n 	Live musicians will improvise with the dancing at many of the
  jams.\n 	For more information\, please email info@contactdance.co.uk or c
 ontact the individual teachers.\n
ATTACH;FMTTYPE=image/jpeg:https://contactdance.co.uk/wp-content/uploads/20
 12/01/feet6.jpg
CATEGORIES:CI Class,CI Jam
LOCATION:DMAC\, (4th Floor) Hamilton House\, 80 Stokes Croft\, Bristol\, BS
 1 3QY\, United Kingdom
GEO:51.4629;-2.58991
X-APPLE-STRUCTURED-LOCATION;VALUE=URI;X-ADDRESS=80 Stokes Croft\, Bristol\,
  BS1 3QY\, United Kingdom;X-APPLE-RADIUS=100;X-TITLE=DMAC\, (4th Floor) Ha
 milton House:geo:51.4629,-2.58991
END:VEVENT
BEGIN:VTIMEZONE
TZID:Europe/London
X-LIC-LOCATION:Europe/London
BEGIN:STANDARD
DTSTART:20161030T010000
TZOFFSETFROM:+0100
TZOFFSETTO:+0000
TZNAME:GMT
END:STANDARD
END:VTIMEZONE
END:VCALENDAR