BEGIN:VCALENDAR
VERSION:2.0
PRODID:-//wp-events-plugin.com//7.2.3.1//EN
TZID:Europe/London
X-WR-TIMEZONE:Europe/London
BEGIN:VEVENT
UID:2182@contactdance.co.uk
DTSTART;TZID=Europe/London:20170402T170000
DTEND;TZID=Europe/London:20170402T203000
DTSTAMP:20170330T220213Z
URL:https://contactdance.co.uk/events/bristol-ci-sunday-class-jam-10-2017-
 04-02/
SUMMARY:BRISTOL CI: SUNDAY CLASS & JAM - DMAC\, (4th Floor) Hamilton House 
 - 2 Apr 17 17:00
DESCRIPTION:Beginner friendly pre-jam warmup class 5-6.30pm followed by the
  jam 6.30-8.30pm. Doors will be closed for the duration of the class to ke
 ep the focus\, so please arrive early to attend the class\, you can arrive
  at any time for the jam. Dancers can come just for the class\, £6\, or s
 tay for the jam\, £9. Both also available to book via MoveGB.\n\nFor more
  information feel free to contact the teacher/facilitator or info@contac
 tdance.co.uk. We send out regular emails of class descriptions\, to get th
 ese\, please sign-up to our mailing list.\nClass Description\n\n\nAn Exp
 loration of Connection through our Senses.\nThis is something you are enga
 ged with at every dance in every moment. It is a rich landscape that can b
 e new and fresh in every dance you have for ever - lets take some time to 
 put some emphasis here and feel what wakes up through connecting from our 
 senses.\n\nLee - I work with movement and dance as an enquiry into the pre
 sent moment. Fascinated by dance as a metaphor for life I have used Contac
 t Improvisation\, somatic movement\, non-stylised movement and self enquir
 y as a vehicle to explore on the dance floor life\, with freshness moment 
 to moment. Lee co created Embodied Presence in 2012 and has been facilitat
 ing classes\, workshops and retreats in the UK\, Europe and Australia.\nTh
 e Jam\nA jam is an informal gathering of dancers. There is no teacher\, bu
 t space and time to develop skills and confidence. You are free to dance\,
  rest\, or sit and watch\, as you wish. The jam provides an opportunity to
  explore and integrate techniques you have learned\, and to find your own 
 routes into dancing.\n\nAt some jams a teacher will facilitate a score to 
 follow such as a focused (silent) jam\, the Underscore (developed by Nancy
  Stark-Smith)\, or a blindfold (or eyes-closed) jam\, this will normally b
 e advertised via our regular mailout – so sign-up if you want advance 
 notice.\n\n 	Live musicians will improvise with the dancing at many of t
 he jams.\n 	For more information\, please email info@contactdance.co.uk or
  contact the individual teachers.\n
ATTACH;FMTTYPE=image/jpeg:https://contactdance.co.uk/wp-content/uploads/20
 12/01/feet6.jpg
CATEGORIES:CI Class,CI Jam
LOCATION:DMAC\, (4th Floor) Hamilton House\, 80 Stokes Croft\, Bristol\, BS
 1 3QY\, United Kingdom
GEO:51.4629;-2.58991
X-APPLE-STRUCTURED-LOCATION;VALUE=URI;X-ADDRESS=80 Stokes Croft\, Bristol\,
  BS1 3QY\, United Kingdom;X-APPLE-RADIUS=100;X-TITLE=DMAC\, (4th Floor) Ha
 milton House:geo:51.4629,-2.58991
END:VEVENT
BEGIN:VTIMEZONE
TZID:Europe/London
X-LIC-LOCATION:Europe/London
BEGIN:DAYLIGHT
DTSTART:20170326T020000
TZOFFSETFROM:+0000
TZOFFSETTO:+0100
TZNAME:BST
END:DAYLIGHT
END:VTIMEZONE
END:VCALENDAR