BEGIN:VCALENDAR
VERSION:2.0
PRODID:-//wp-events-plugin.com//7.2.3.1//EN
TZID:Europe/London
X-WR-TIMEZONE:Europe/London
BEGIN:VEVENT
UID:2262@contactdance.co.uk
DTSTART;TZID=Europe/London:20170507T170000
DTEND;TZID=Europe/London:20170507T203000
DTSTAMP:20170503T121250Z
URL:https://contactdance.co.uk/events/bristol-ci-sunday-class-jam-11-2017-
 05-07/
SUMMARY:Bristol CI: Sunday Class & Jam - DMAC\, (4th Floor) Hamilton House 
 - 7 May 17 17:00
DESCRIPTION:Beginner friendly pre-jam warmup class 5-6.30pm followed by the
  jam 6.30-8.30pm. Doors will be closed for the duration of the class to ke
 ep the focus\, so please arrive early to attend the class\, you can arrive
  at any time for the jam. Dancers can come just for the class\, £6\, or s
 tay for the jam\, £9. You can also book on MoveGB\n\nFor more information
  feel free to contact the teacher/facilitator or info@contactdance.co.uk
 . We send out regular emails of class descriptions\, to get these\, please
  sign-up to our mailing list.\nClass Description\n\n\nAfter warming the 
 space\, we will work from somatic images into movement. Working with light
  contact\, I will propose a toolkit to join and separate from other bodies
  in the room\,\n\nThis class is about light touch and brief encounters.\n\
 nAfter warming the body with hands-on\, we'll engage in a brief compositio
 nal task to wake up our curiosity and awareness of the space and bodies ar
 ound us.\n\nAfter negotiating the passing through of other bodies\, we'll 
 see how and touch and natural platforms within the body allow us to utilis
 e\, manipulate and negotiate ourselves with each other\, both on and off t
 he alignment of our own access.\nThe Jam\nA jam is an informal gathering o
 f dancers. There is no teacher\, but space and time to develop skills and 
 confidence. You are free to dance\, rest\, or sit and watch\, as you wish.
  The jam provides an opportunity to explore and integrate techniques you h
 ave learned\, and to find your own routes into dancing.\n\nAt some jams a 
 teacher will facilitate a score to follow such as a focused (silent) jam\,
  the Underscore (developed by Nancy Stark-Smith)\, or a blindfold (or eyes
 -closed) jam\, this will normally be advertised via our regular mailout 
 – so sign-up if you want advance notice.\n\n 	Live musicians will im
 provise with the dancing at many of the jams.\n 	For more information\, pl
 ease email info@contactdance.co.uk or contact the individual teachers.\n
ATTACH;FMTTYPE=image/jpeg:https://contactdance.co.uk/wp-content/uploads/20
 12/01/feet6.jpg
CATEGORIES:CI Class,CI Jam
LOCATION:DMAC\, (4th Floor) Hamilton House\, 80 Stokes Croft\, Bristol\, BS
 1 3QY\, United Kingdom
GEO:51.4629;-2.58991
X-APPLE-STRUCTURED-LOCATION;VALUE=URI;X-ADDRESS=80 Stokes Croft\, Bristol\,
  BS1 3QY\, United Kingdom;X-APPLE-RADIUS=100;X-TITLE=DMAC\, (4th Floor) Ha
 milton House:geo:51.4629,-2.58991
END:VEVENT
BEGIN:VTIMEZONE
TZID:Europe/London
X-LIC-LOCATION:Europe/London
BEGIN:DAYLIGHT
DTSTART:20170326T020000
TZOFFSETFROM:+0000
TZOFFSETTO:+0100
TZNAME:BST
END:DAYLIGHT
END:VTIMEZONE
END:VCALENDAR