BEGIN:VCALENDAR
VERSION:2.0
PRODID:-//wp-events-plugin.com//7.2.3.1//EN
TZID:Europe/London
X-WR-TIMEZONE:Europe/London
BEGIN:VEVENT
UID:2267@contactdance.co.uk
DTSTART;TZID=Europe/London:20170611T170000
DTEND;TZID=Europe/London:20170611T203000
DTSTAMP:20170609T180813Z
URL:https://contactdance.co.uk/events/bristol-ci-sunday-class-jam-11-2017-
 06-11/
SUMMARY:Bristol CI: Sunday Class & Jam - DMAC\, (4th Floor) Hamilton House 
 - 11 Jun 17 17:00
DESCRIPTION:Beginner friendly pre-jam warmup class 5-6.30pm followed by the
  jam 6.30-8.30pm. Doors will be closed for the duration of the class to ke
 ep the focus\, so please arrive early to attend the class\, you can arrive
  at any time for the jam. Dancers can come just for the class\, £6\, or s
 tay for the jam\, £9. You can also book on MoveGB\n\nFor more information
  feel free to contact the teacher/facilitator or info@contactdance.co.uk
 . We send out regular emails of class descriptions\, to get these\, please
  sign-up to our mailing list.\nClass Description\nFalling (and a little 
 catching)\n\nConfidence with playing comes from freeing the fear.\nWhat do
  we fear?\nFalling and hurting ourselves.\nLet’s learn to fall without f
 ear\, and see where the momentum takes us.\nThis class will explore our re
 lationship with gravity\, ourselves and others through falling.\n\nThe ses
 sion will naturally encompass somatic principles of reach developmental pa
 tterns\, and reflexive integration as well as an enlivening of our senses 
 especially sight in a non-directional and more peripheral way.\n\nIt will 
 be safe\, accessible to all and explorative.\n\nCome with a willingness to
  let go\, stay in control\, be clumsy\, be flowing and enjoy meeting the g
 round.\n\n‘Fall…Move from a higher to a lower level\, typically rapidl
 y and without control.\nSynonyms: drop\, drop down\, plummet\, descend\, c
 ome down\, go down\, plunge\, sink\, dive\, nosedive\, tumble\, pitch\; 
 …cascade… slope down\, slope\, slant down\, go down\, incline downward
 s\, tilt downwards\, drop away\, drop\, descend\, dip\, sink\, plunge\; 
 …gravitate… topple over\, tumble over\, keel over\, fall down\, fall o
 ver\, go head over heels\, go end over end\, fall headlong\, go headlong\,
  collapse\, fall in a heap\, take a spill\, pitch forward\; trip\, trip ov
 er\, stumble\, stagger\, slip\, slide’ (google.co.uk).\n\n\nThe Jam\nWed
 nesday or Thursday before the class – it is also send out weekly via our
  mailing list}\nA jam is an informal gathering of dancers. There is no te
 acher\, but space and time to develop skills and confidence. You are free 
 to dance\, rest\, or sit and watch\, as you wish. The jam provides an oppo
 rtunity to explore and integrate techniques you have learned\, and to find
  your own routes into dancing.\n\nAt some jams a teacher will facilitate a
  score to follow such as a focused (silent) jam\, the Underscore (develope
 d by Nancy Stark-Smith)\, or a blindfold (or eyes-closed) jam\, this will 
 normally be advertised via our regular mailout – so sign-up if you wan
 t advance notice.\n\n 	Live musicians will improvise with the dancing at
  many of the jams.\n 	For more information\, please email info@contactdanc
 e.co.uk or contact the individual teachers.\n
ATTACH;FMTTYPE=image/jpeg:https://contactdance.co.uk/wp-content/uploads/20
 12/01/feet6.jpg
CATEGORIES:CI Class,CI Jam
LOCATION:DMAC\, (4th Floor) Hamilton House\, 80 Stokes Croft\, Bristol\, BS
 1 3QY\, United Kingdom
GEO:51.4629;-2.58991
X-APPLE-STRUCTURED-LOCATION;VALUE=URI;X-ADDRESS=80 Stokes Croft\, Bristol\,
  BS1 3QY\, United Kingdom;X-APPLE-RADIUS=100;X-TITLE=DMAC\, (4th Floor) Ha
 milton House:geo:51.4629,-2.58991
END:VEVENT
BEGIN:VTIMEZONE
TZID:Europe/London
X-LIC-LOCATION:Europe/London
BEGIN:DAYLIGHT
DTSTART:20170326T020000
TZOFFSETFROM:+0000
TZOFFSETTO:+0100
TZNAME:BST
END:DAYLIGHT
END:VTIMEZONE
END:VCALENDAR