BEGIN:VCALENDAR
VERSION:2.0
PRODID:-//wp-events-plugin.com//7.2.3.1//EN
TZID:Europe/London
X-WR-TIMEZONE:Europe/London
BEGIN:VEVENT
UID:2276@contactdance.co.uk
DTSTART;TZID=Europe/London:20171001T170000
DTEND;TZID=Europe/London:20171001T203000
DTSTAMP:20170929T144130Z
URL:https://contactdance.co.uk/events/bristol-ci-sunday-class-jam-12-2017-
 10-01/
SUMMARY:Bristol CI: Sunday Class & Jam - DMAC\, (4th Floor) Hamilton House 
 - 1 Oct 17 17:00
DESCRIPTION:Beginner friendly pre-jam warmup class 5-6.30pm followed by the
  jam 6.30-8.30pm. Doors will be closed for the duration of the class to ke
 ep the focus\, so please arrive early to attend the class\, you can arrive
  at any time for the jam. Dancers can come just for the class\, £6\, or s
 tay for the jam\, £9. You can also book on MoveGB\n\nFor more information
  feel free to contact the teacher/facilitator or info@contactdance.co.uk
 . We send out regular emails of class descriptions\, to get these\, please
  sign-up to our mailing list.\nClass Description\n\n\nFollowing on from 
 last weeks theme\, although this class can be attended independently  we 
 will be looking at the Crescent rolls. After working a with the centre\, d
 efining it within ourselves and moving from that place\, we will discover 
 the crescent shape in movement\, taking time to feel it in the body. Progr
 essing gradually to explore some of its uses in the dance. \n\nThe Jam\n
 A jam is an informal gathering of dancers. There is no teacher\, but space
  and time to develop skills and confidence. You are free to dance\, rest\,
  or sit and watch\, as you wish. The jam provides an opportunity to explor
 e and integrate techniques you have learned\, and to find your own routes 
 into dancing.\n\nAt some jams a teacher will facilitate a score to follow 
 such as a focused (silent) jam\, the Underscore (developed by Nancy Stark-
 Smith)\, or a blindfold (or eyes-closed) jam\, this will normally be adver
 tised via our regular mailout – so sign-up if you want advance notice.
 \n\n 	Live musicians will improvise with the dancing at many of the jams
 .\n 	For more information\, please email info@contactdance.co.uk or contac
 t the individual teachers.\n
ATTACH;FMTTYPE=image/jpeg:https://contactdance.co.uk/wp-content/uploads/20
 12/01/feet6.jpg
CATEGORIES:CI Class,CI Jam
LOCATION:DMAC\, (4th Floor) Hamilton House\, 80 Stokes Croft\, Bristol\, BS
 1 3QY\, United Kingdom
GEO:51.4629;-2.58991
X-APPLE-STRUCTURED-LOCATION;VALUE=URI;X-ADDRESS=80 Stokes Croft\, Bristol\,
  BS1 3QY\, United Kingdom;X-APPLE-RADIUS=100;X-TITLE=DMAC\, (4th Floor) Ha
 milton House:geo:51.4629,-2.58991
END:VEVENT
BEGIN:VTIMEZONE
TZID:Europe/London
X-LIC-LOCATION:Europe/London
BEGIN:DAYLIGHT
DTSTART:20170326T020000
TZOFFSETFROM:+0000
TZOFFSETTO:+0100
TZNAME:BST
END:DAYLIGHT
END:VTIMEZONE
END:VCALENDAR