BEGIN:VCALENDAR
VERSION:2.0
PRODID:-//wp-events-plugin.com//7.2.3.1//EN
TZID:Europe/London
X-WR-TIMEZONE:Europe/London
BEGIN:VEVENT
UID:2277@contactdance.co.uk
DTSTART;TZID=Europe/London:20171008T170000
DTEND;TZID=Europe/London:20171008T203000
DTSTAMP:20171005T212628Z
URL:https://contactdance.co.uk/events/bristol-ci-sunday-class-jam-12-2017-
 10-08/
SUMMARY:Bristol CI: Sunday Class & Jam - DMAC\, (4th Floor) Hamilton House 
 - 8 Oct 17 17:00
DESCRIPTION:Beginner friendly pre-jam warmup class 5-6.30pm followed by the
  jam 6.30-8.30pm. Doors will be closed for the duration of the class to ke
 ep the focus\, so please arrive early to attend the class\, you can arrive
  at any time for the jam. Dancers can come just for the class\, £6\, or s
 tay for the jam\, £9. You can also book on MoveGB\n\nFor more information
  feel free to contact the teacher/facilitator or info@contactdance.co.uk
 . We send out regular emails of class descriptions\, to get these\, please
  sign-up to our mailing list.\nClass Description\nWe will warm ourselves
  up by  starting from stillness\, moving into embodied solo improvisation
 s\, then  adding physical contact with others to find out how this influe
 nces our dance.\nWe will then explore how we can use the table position to
  support the weight of others and how we can smoothly transition in and ou
 t of this position and create fluid changes between over-dancer and under-
 dancer roles.\nFollowing this we will go back to our embodied dance to see
  how these technical explorations can nourish our improvised movement.\n\n
 The Jam\nA jam is an informal gathering of dancers. There is no teacher\, 
 but space and time to develop skills and confidence. You are free to dance
 \, rest\, or sit and watch\, as you wish. The jam provides an opportunity 
 to explore and integrate techniques you have learned\, and to find your ow
 n routes into dancing.\n\nAt some jams a teacher will facilitate a score t
 o follow such as a focused (silent) jam\, the Underscore (developed by Nan
 cy Stark-Smith)\, or a blindfold (or eyes-closed) jam\, this will normally
  be advertised via our regular mailout – so sign-up if you want advanc
 e notice.\n\n 	Live musicians will improvise with the dancing at many of
  the jams.\n 	For more information\, please email info@contactdance.co.uk 
 or contact the individual teachers.\n
ATTACH;FMTTYPE=image/jpeg:https://contactdance.co.uk/wp-content/uploads/20
 12/01/feet6.jpg
CATEGORIES:CI Class,CI Jam
LOCATION:DMAC\, (4th Floor) Hamilton House\, 80 Stokes Croft\, Bristol\, BS
 1 3QY\, United Kingdom
GEO:51.4629;-2.58991
X-APPLE-STRUCTURED-LOCATION;VALUE=URI;X-ADDRESS=80 Stokes Croft\, Bristol\,
  BS1 3QY\, United Kingdom;X-APPLE-RADIUS=100;X-TITLE=DMAC\, (4th Floor) Ha
 milton House:geo:51.4629,-2.58991
END:VEVENT
BEGIN:VTIMEZONE
TZID:Europe/London
X-LIC-LOCATION:Europe/London
BEGIN:DAYLIGHT
DTSTART:20170326T020000
TZOFFSETFROM:+0000
TZOFFSETTO:+0100
TZNAME:BST
END:DAYLIGHT
END:VTIMEZONE
END:VCALENDAR