BEGIN:VCALENDAR
VERSION:2.0
PRODID:-//wp-events-plugin.com//7.2.3.1//EN
TZID:Europe/London
X-WR-TIMEZONE:Europe/London
BEGIN:VEVENT
UID:2280@contactdance.co.uk
DTSTART;TZID=Europe/London:20171029T170000
DTEND;TZID=Europe/London:20171029T203000
DTSTAMP:20171026T201115Z
URL:https://contactdance.co.uk/events/bristol-ci-sunday-class-jam-12-2017-
 10-29/
SUMMARY:Bristol CI: Sunday Class & Jam - DMAC\, (4th Floor) Hamilton House 
 - 29 Oct 17 17:00
DESCRIPTION:Beginner friendly pre-jam warmup class 5-6.30pm followed by the
  jam 6.30-8.30pm. Doors will be closed for the duration of the class to ke
 ep the focus\, so please arrive early to attend the class\, you can arrive
  at any time for the jam. Dancers can come just for the class\, £6\, or s
 tay for the jam\, £9. You can also book on MoveGB\n\nFor more information
  feel free to contact the teacher/facilitator or info@contactdance.co.uk
 . We send out regular emails of class descriptions\, to get these\, please
  sign-up to our mailing list.\nClass Description\n\n\n\nphoto by Cristin
 a Crippa cristinacrippa.it\, Ecite 2017\, Tuscania (VT)\, Italy\, August 2
 017\n\n\n\nConsidering Contact Improvisation as a tool to investigate our 
 body’s orientation as part of a wider interdependent landscape in consta
 nt transformation I will facilitate a somatic based session into Contact I
 mprovisation.\n\nThe proposed focus will be our sense of limit...\n\nWhen 
 does my sense of me ends and sense of you begins?When does our sense of se
 lf begin to dance together?\n\nDrawing inspiration from Contemplative Danc
 e Practice of Barbara Dilley and scores from 'Perception Frames' project b
 y Rosanna Irvine\, we will investigate the relationship between stillness 
 and movement\, as a process o 'relating' to our sense of self embedded as 
 part of a wider whole. Acknowledging the path of our attentive state\, nav
 igating through the map of the 'extended' body\, embracing the primal lang
 uage of gravity as a way to re-negotiate possible ways of coming in and ou
 t of contact.\n\nBring paper to draw..I will provide colours... :)\n\nRebe
 cca Marta D'Andrea\nMovement Artist\nrebeccamartadandrea.wordpress.com\nTh
 e Jam\nA jam is an informal gathering of dancers. There is no teacher\, bu
 t space and time to develop skills and confidence. You are free to dance\,
  rest\, or sit and watch\, as you wish. The jam provides an opportunity to
  explore and integrate techniques you have learned\, and to find your own 
 routes into dancing.\n\nAt some jams a teacher will facilitate a score to 
 follow such as a focused (silent) jam\, the Underscore (developed by Nancy
  Stark-Smith)\, or a blindfold (or eyes-closed) jam\, this will normally b
 e advertised via our regular mailout – so sign-up if you want advance 
 notice.\n\n 	Live musicians will improvise with the dancing at many of t
 he jams.\n 	For more information\, please email info@contactdance.co.uk or
  contact the individual teachers.\n
ATTACH;FMTTYPE=image/jpeg:https://contactdance.co.uk/wp-content/uploads/20
 12/01/feet6.jpg
CATEGORIES:CI Class,CI Jam
LOCATION:DMAC\, (4th Floor) Hamilton House\, 80 Stokes Croft\, Bristol\, BS
 1 3QY\, United Kingdom
GEO:51.4629;-2.58991
X-APPLE-STRUCTURED-LOCATION;VALUE=URI;X-ADDRESS=80 Stokes Croft\, Bristol\,
  BS1 3QY\, United Kingdom;X-APPLE-RADIUS=100;X-TITLE=DMAC\, (4th Floor) Ha
 milton House:geo:51.4629,-2.58991
END:VEVENT
BEGIN:VTIMEZONE
TZID:Europe/London
X-LIC-LOCATION:Europe/London
BEGIN:STANDARD
DTSTART:20171029T010000
TZOFFSETFROM:+0100
TZOFFSETTO:+0000
TZNAME:GMT
END:STANDARD
END:VTIMEZONE
END:VCALENDAR