BEGIN:VCALENDAR
VERSION:2.0
PRODID:-//wp-events-plugin.com//7.2.3.1//EN
TZID:Europe/London
X-WR-TIMEZONE:Europe/London
BEGIN:VEVENT
UID:2281@contactdance.co.uk
DTSTART;TZID=Europe/London:20171105T170000
DTEND;TZID=Europe/London:20171105T203000
DTSTAMP:20171031T174945Z
URL:https://contactdance.co.uk/events/bristol-ci-sunday-class-jam-12-2017-
 11-05/
SUMMARY:Moving Underscore long jam session - BONFIRE THEME - DMAC\, (4th Fl
 oor) Hamilton House - 5 Nov 17 17:00
DESCRIPTION:&nbsp\;\n\n\n\n&nbsp\;\n\nIt's that time again to come together
  and experience a long facilitated and improvised Jam with Contact Improvi
 sation Dance at its core. As it is bonfire night that night we will have a
  little (somatic) bonfire theme going on - details to be revealed at the t
 ime. PLEASE DO NOT BRING ANY EXPLOSIVES WITH YOU THO! :)\n\nThere will be 
 live improvised music from Mark Langford playing bass clarinet and tenor s
 ax.\n\nWHO:\nDancers\, Improvisers\, dance poets\, performing artists will
  all find it an inspiring source of self discovery and creativity. All lev
 els of moving experience welcome! If you want to improve your presence in 
 the Jams or expand your dancing vocabulary - Underscore can support this f
 ully.\n\nWHAT:\nIn Nancy's words:\n"The Underscore is a vehicle for incorp
 orating Contact Improvisation into a broader arena of improvisational dan
 ce practice\; for developing greater ease dancing in spherical space—alo
 ne and with others\; and for integrating kinesthetic and compositional con
 cerns while improvising. It allows for a full spectrum of energetic and ph
 ysical expressions\, embodying a range of forms and changing states. Its p
 ractice is familiar yet unpredictable."\n\n\nPRACTICALITIES:\nThe practice
  is usually 3-4 hours long. We are going to create 3 hours for this\, incl
 uding reflection time. To support your dance practice we will have a music
 ian from 6:30 pm onwards.\n\n\nWHAT YOU ABSOLUTELY NEED TO KNOW BEFORE COM
 ING\nIf you are completely new to the practice (or need a refresher) pleas
 e come at 5:00 pm for an approximately 30 minutes talk - through the score
 . I promise I try to make it as interesting as I can. This will take place
  in the lobby just outside the dance studio.\nIf you are seasoned Undersco
 re practitioner or have sat for a talk though once in your life\, please c
 ome for 5:30 pm at which point we will be transitioning from the lobby to 
 the studio to begin with the Assembly. \n\n\nNOTE: There won't be an oppo
 rtunity to join in at 6:30 pm- ususal time for the Jam in original class/j
 am format. This is because we are dancing a long focused score in its natu
 ral progression and we ask your commitment for those 3 hours.\nIf you know
  you are likely to get hungry please bring snacks with you. I will provide
  a big flask of tea.
ATTACH;FMTTYPE=image/jpeg:https://contactdance.co.uk/wp-content/uploads/20
 12/01/feet6.jpg
CATEGORIES:CI Jam
LOCATION:DMAC\, (4th Floor) Hamilton House\, 80 Stokes Croft\, Bristol\, BS
 1 3QY\, United Kingdom
GEO:51.4629;-2.58991
X-APPLE-STRUCTURED-LOCATION;VALUE=URI;X-ADDRESS=80 Stokes Croft\, Bristol\,
  BS1 3QY\, United Kingdom;X-APPLE-RADIUS=100;X-TITLE=DMAC\, (4th Floor) Ha
 milton House:geo:51.4629,-2.58991
END:VEVENT
BEGIN:VTIMEZONE
TZID:Europe/London
X-LIC-LOCATION:Europe/London
BEGIN:STANDARD
DTSTART:20171029T010000
TZOFFSETFROM:+0100
TZOFFSETTO:+0000
TZNAME:GMT
END:STANDARD
END:VTIMEZONE
END:VCALENDAR