BEGIN:VCALENDAR
VERSION:2.0
PRODID:-//wp-events-plugin.com//7.2.3.1//EN
TZID:Europe/London
X-WR-TIMEZONE:Europe/London
BEGIN:VEVENT
UID:2284@contactdance.co.uk
DTSTART;TZID=Europe/London:20171126T170000
DTEND;TZID=Europe/London:20171126T203000
DTSTAMP:20171123T145004Z
URL:https://contactdance.co.uk/events/bristol-ci-sunday-class-jam-12-2017-
 11-26/
SUMMARY:Bristol CI: Sunday Class & Jam - DMAC\, (4th Floor) Hamilton House 
 - 26 Nov 17 17:00
DESCRIPTION:Beginner friendly pre-jam warmup class 5-6.30pm followed by the
  jam 6.30-8.30pm. Doors will be closed for the duration of the class to ke
 ep the focus\, so please arrive early to attend the class\, you can arrive
  at any time for the jam. Dancers can come just for the class\, £6\, or s
 tay for the jam\, £9. You can also book on MoveGB\n\nFor more information
  feel free to contact the teacher/facilitator or info@contactdance.co.uk
 . We send out regular emails of class descriptions\, to get these\, please
  sign-up to our mailing list.\nClass Description\n\nSensing in\, Sensing
  out - the nuances of curling and uncurling in the dance\n\n"The Heart is 
 a place of perceiving\, emoting and becoming"\n-Stephen Harrod Buhner\n\nT
 his class will explore expansion and contraction in the dance with the hea
 rt as an organ of perception as a central motif. Settling into the sensing
  body\, we will begin slowly\, tracing our body's architecture\, the movem
 ent of the breath and heart - from the seeds of entering into the world\, 
 to the unfolding of the body in motion\, the point of contact with another
 ...noticing the moments of stillness and emergence\, the interplay between
  curling and uncurling and the crevices in-between...A supportive space to
  move\, connect and play - all welcome.\n\nEvelyn is a Somatic Movement Ed
 ucator and CI dancer with a passion for working with socially isolated gro
 ups. She teaches in Bristol\, Bath and Scotland and is currently engaged i
 n Somatic research.\n\nThe Jam\nA jam is an informal gathering of dancers.
  There is no teacher\, but space and time to develop skills and confidence
 . You are free to dance\, rest\, or sit and watch\, as you wish. The jam p
 rovides an opportunity to explore and integrate techniques you have learne
 d\, and to find your own routes into dancing.\n\nAt some jams a teacher wi
 ll facilitate a score to follow such as a focused (silent) jam\, the Under
 score (developed by Nancy Stark-Smith)\, or a blindfold (or eyes-closed) j
 am\, this will normally be advertised via our regular mailout – so sign
 -up if you want advance notice.\n\n 	Live musicians will improvise with
  the dancing at many of the jams.\n 	For more information\, please email i
 nfo@contactdance.co.uk or contact the individual teachers.\n
ATTACH;FMTTYPE=image/jpeg:https://contactdance.co.uk/wp-content/uploads/20
 12/01/feet6.jpg
CATEGORIES:CI Class,CI Jam
LOCATION:DMAC\, (4th Floor) Hamilton House\, 80 Stokes Croft\, Bristol\, BS
 1 3QY\, United Kingdom
GEO:51.4629;-2.58991
X-APPLE-STRUCTURED-LOCATION;VALUE=URI;X-ADDRESS=80 Stokes Croft\, Bristol\,
  BS1 3QY\, United Kingdom;X-APPLE-RADIUS=100;X-TITLE=DMAC\, (4th Floor) Ha
 milton House:geo:51.4629,-2.58991
END:VEVENT
BEGIN:VTIMEZONE
TZID:Europe/London
X-LIC-LOCATION:Europe/London
BEGIN:STANDARD
DTSTART:20171029T010000
TZOFFSETFROM:+0100
TZOFFSETTO:+0000
TZNAME:GMT
END:STANDARD
END:VTIMEZONE
END:VCALENDAR