BEGIN:VCALENDAR
VERSION:2.0
PRODID:-//wp-events-plugin.com//7.2.3.1//EN
TZID:Europe/London
X-WR-TIMEZONE:Europe/London
BEGIN:VEVENT
UID:2286@contactdance.co.uk
DTSTART;TZID=Europe/London:20171210T170000
DTEND;TZID=Europe/London:20171210T203000
DTSTAMP:20171206T222306Z
URL:https://contactdance.co.uk/events/bristol-ci-sunday-class-jam-12-2017-
 12-10/
SUMMARY:Bristol CI: Sunday Class & Jam - DMAC\, (4th Floor) Hamilton House 
 - 10 Dec 17 17:00
DESCRIPTION:Beginner friendly pre-jam warmup class 5-6.30pm followed by the
  jam 6.30-8.30pm. Doors will be closed for the duration of the class to ke
 ep the focus\, so please arrive early to attend the class\, you can arrive
  at any time for the jam. Dancers can come just for the class\, £6\, or s
 tay for the jam\, £9. You can also book on MoveGB\n\nFor more information
  feel free to contact the teacher/facilitator or info@contactdance.co.uk
 . We send out regular emails of class descriptions\, to get these\, please
  sign-up to our mailing list.\nClass Description\n\n\n"Gathering Wood fo
 r the Fire"\nWe will move from bodywork to CI\, from small dance to social
  dance\, creating an informed\, fun and embodied experience of dancing and
  moving together.\n\nSam is a Dance Movement Psychotherapist and Creative 
 with a love of CI. He facilitates in an inclusive and clear way to open up
  the power of improvised movement and connection. All welcome.\nThe Jam\nA
  jam is an informal gathering of dancers. There is no teacher\, but space 
 and time to develop skills and confidence. You are free to dance\, rest\, 
 or sit and watch\, as you wish. The jam provides an opportunity to explore
  and integrate techniques you have learned\, and to find your own routes i
 nto dancing.\n\nAt some jams a teacher will facilitate a score to follow s
 uch as a focused (silent) jam\, the Underscore (developed by Nancy Stark-S
 mith)\, or a blindfold (or eyes-closed) jam\, this will normally be advert
 ised via our regular mailout – so sign-up if you want advance notice.\
 n\n 	Live musicians will improvise with the dancing at many of the jams.
 \n 	For more information\, please email info@contactdance.co.uk or contact
  the individual teachers.\n
ATTACH;FMTTYPE=image/jpeg:https://contactdance.co.uk/wp-content/uploads/20
 12/01/feet6.jpg
CATEGORIES:CI Class,CI Jam
LOCATION:DMAC\, (4th Floor) Hamilton House\, 80 Stokes Croft\, Bristol\, BS
 1 3QY\, United Kingdom
GEO:51.4629;-2.58991
X-APPLE-STRUCTURED-LOCATION;VALUE=URI;X-ADDRESS=80 Stokes Croft\, Bristol\,
  BS1 3QY\, United Kingdom;X-APPLE-RADIUS=100;X-TITLE=DMAC\, (4th Floor) Ha
 milton House:geo:51.4629,-2.58991
END:VEVENT
BEGIN:VTIMEZONE
TZID:Europe/London
X-LIC-LOCATION:Europe/London
BEGIN:STANDARD
DTSTART:20171029T010000
TZOFFSETFROM:+0100
TZOFFSETTO:+0000
TZNAME:GMT
END:STANDARD
END:VTIMEZONE
END:VCALENDAR