BEGIN:VCALENDAR
VERSION:2.0
PRODID:-//wp-events-plugin.com//7.2.3.1//EN
TZID:Europe/London
X-WR-TIMEZONE:Europe/London
BEGIN:VEVENT
UID:2323@contactdance.co.uk
DTSTART;TZID=Europe/London:20180429T170000
DTEND;TZID=Europe/London:20180429T203000
DTSTAMP:20180428T085704Z
URL:https://contactdance.co.uk/events/bristol-ci-sunday-class-jam-13-2018-
 04-29/
SUMMARY:Bristol CI Sunday Class & Jam - DMAC\, (4th Floor) Hamilton House -
  29 Apr 18 17:00
DESCRIPTION:Beginner friendly pre-jam warmup class 5-6.30pm followed by the
  jam 6.30-8.30pm. Doors will be closed for the duration of the class to ke
 ep the focus\, so please arrive early to attend the class\, you can arrive
  at any time for the jam. Dancers can come just for the class\, £6\, or s
 tay for the jam\, £9. You can also book on MoveGB\n\nFor more information
  feel free to contact the teacher/facilitator or info@contactdance.co.uk
 . We send out regular emails of class descriptions\, to get these\, please
  sign-up to our mailing list.\nClass Description\n\n\nLegs into Lifts\n\
 nMoving from body work exercises into duets and more open movement scores 
 we will explore connections from the feet to the hip sockets and how conne
 cting through and leading with the legs can lead us into the air.\n\nThis 
 playful exploration will include embodied anatomy\, opening up the hip soc
 kets\, finding articulation in the pelvis and lead to discovering some new
  movement pathways in the dance.\n\nAli is a qualified Somatic Movement Ed
 ucator with the School for Body-Mind Centering (BMC). He teaches regular C
 ontact Improvisation (CI)\, and somatic movement workshops and classes in 
 Bristol. He has been dancing CI for over 10 years.\n\nhttps://somaticmovem
 ent.co.uk/\nThe Jam\nA jam is an informal gathering of dancers. There is n
 o teacher\, but space and time to develop skills and confidence. You are f
 ree to dance\, rest\, or sit and watch\, as you wish. The jam provides an 
 opportunity to explore and integrate techniques you have learned\, and to 
 find your own routes into dancing.\n\nAt some jams a teacher will facilita
 te a score to follow such as a focused (silent) jam\, the Underscore (deve
 loped by Nancy Stark-Smith)\, or a blindfold (or eyes-closed) jam\, this w
 ill normally be advertised via our regular mailout – so sign-up if you
  want advance notice.\n\n 	Live musicians will improvise with the dancin
 g at many of the jams.\n 	For more information\, please email info@contact
 dance.co.uk or contact the individual teachers.\n
ATTACH;FMTTYPE=image/jpeg:https://contactdance.co.uk/wp-content/uploads/20
 11/07/feet6.jpg
CATEGORIES:CI Jam
LOCATION:DMAC\, (4th Floor) Hamilton House\, 80 Stokes Croft\, Bristol\, BS
 1 3QY\, United Kingdom
GEO:51.4629;-2.58991
X-APPLE-STRUCTURED-LOCATION;VALUE=URI;X-ADDRESS=80 Stokes Croft\, Bristol\,
  BS1 3QY\, United Kingdom;X-APPLE-RADIUS=100;X-TITLE=DMAC\, (4th Floor) Ha
 milton House:geo:51.4629,-2.58991
END:VEVENT
BEGIN:VTIMEZONE
TZID:Europe/London
X-LIC-LOCATION:Europe/London
BEGIN:DAYLIGHT
DTSTART:20180325T020000
TZOFFSETFROM:+0000
TZOFFSETTO:+0100
TZNAME:BST
END:DAYLIGHT
END:VTIMEZONE
END:VCALENDAR