BEGIN:VCALENDAR
VERSION:2.0
PRODID:-//wp-events-plugin.com//7.2.3.1//EN
TZID:Europe/London
X-WR-TIMEZONE:Europe/London
BEGIN:VEVENT
UID:2339@contactdance.co.uk
DTSTART;TZID=Europe/London:20180916T170000
DTEND;TZID=Europe/London:20180916T203000
DTSTAMP:20180912T181254Z
URL:https://contactdance.co.uk/events/bristol-ci-sunday-class-jam-14-2018-
 09-16/
SUMMARY:Bristol CI Sunday Class & Jam - DMAC\, (4th Floor) Hamilton House -
  16 Sep 18 17:00
DESCRIPTION:Beginner friendly pre-jam warmup class 5-6.30pm followed by the
  jam 6.30-8.30pm. Doors will be closed for the duration of the class to ke
 ep the focus\, so please arrive early to attend the class\, you can arrive
  at any time for the jam. Dancers can come just for the class\, £6\, or s
 tay for the jam\, £9. You can also book on MoveGB\n\nFor more information
  feel free to contact the teacher/facilitator or info@contactdance.co.uk
 . We send out regular emails of class descriptions\, to get these\, please
  sign-up to our mailing list.\nClass Description\n&nbsp\;\n\nIn this war
 m up class the focus will be on exploring the rhythm of our movement. Geor
 ge Leonard once said (paraphrasing): The world and it’s heart - the danc
 e are made of emptiness and rhythm.\nI am going to propose that we start b
 y finding the flow and then the structure in our solo dance as a portal to
  playing with the rhythm. For example\, we will move in round and spiral w
 ays\, engaging the felt sense before we engage more of the the body mind t
 o direct and shape our movement in a focused and creative way.\nThis will 
 lead us to a group dance improvisation where both aspect of the explored q
 uality are coming together to enrich our dance vocabulary.\n\nThe Jam\nA j
 am is an informal gathering of dancers. There is no teacher\, but space an
 d time to develop skills and confidence. You are free to dance\, rest\, or
  sit and watch\, as you wish. The jam provides an opportunity to explore a
 nd integrate techniques you have learned\, and to find your own routes int
 o dancing.\n\nAt some jams a teacher will facilitate a score to follow suc
 h as a focused (silent) jam\, the Underscore (developed by Nancy Stark-Smi
 th)\, or a blindfold (or eyes-closed) jam\, this will normally be advertis
 ed via our regular mailout – so sign-up if you want advance notice.\n\
 n 	Live musicians will improvise with the dancing at many of the jams.\n
  	For more information\, please email info@contactdance.co.uk or contact t
 he individual teachers.\n
ATTACH;FMTTYPE=image/jpeg:https://contactdance.co.uk/wp-content/uploads/20
 11/07/feet6.jpg
CATEGORIES:CI Jam
LOCATION:DMAC\, (4th Floor) Hamilton House\, 80 Stokes Croft\, Bristol\, BS
 1 3QY\, United Kingdom
GEO:51.4629;-2.58991
X-APPLE-STRUCTURED-LOCATION;VALUE=URI;X-ADDRESS=80 Stokes Croft\, Bristol\,
  BS1 3QY\, United Kingdom;X-APPLE-RADIUS=100;X-TITLE=DMAC\, (4th Floor) Ha
 milton House:geo:51.4629,-2.58991
END:VEVENT
BEGIN:VTIMEZONE
TZID:Europe/London
X-LIC-LOCATION:Europe/London
BEGIN:DAYLIGHT
DTSTART:20180325T020000
TZOFFSETFROM:+0000
TZOFFSETTO:+0100
TZNAME:BST
END:DAYLIGHT
END:VTIMEZONE
END:VCALENDAR