BEGIN:VCALENDAR
VERSION:2.0
PRODID:-//wp-events-plugin.com//7.2.3.1//EN
TZID:Europe/London
X-WR-TIMEZONE:Europe/London
BEGIN:VEVENT
UID:2341@contactdance.co.uk
DTSTART;TZID=Europe/London:20180930T170000
DTEND;TZID=Europe/London:20180930T203000
DTSTAMP:20180926T214027Z
URL:https://contactdance.co.uk/events/bristol-ci-sunday-class-jam-14-2018-
 09-30/
SUMMARY:Bristol CI Sunday Class & Jam - DMAC\, (4th Floor) Hamilton House -
  30 Sep 18 17:00
DESCRIPTION:Beginner friendly pre-jam warmup class 5-6.30pm followed by the
  jam 6.30-8.30pm. Doors will be closed for the duration of the class to ke
 ep the focus\, so please arrive early to attend the class\, you can arrive
  at any time for the jam. Dancers can come just for the class\, £6\, or s
 tay for the jam\, £9. You can also book on MoveGB\n\nFor more information
  feel free to contact the teacher/facilitator or info@contactdance.co.uk
 . We send out regular emails of class descriptions\, to get these\, please
  sign-up to our mailing list.\nClass Description\nCentering the Dance\n\
 n\n\nThis class is about keeping connection\, about trusting the body\, an
 d commitment to the dance\, in both intention and physicality. By followin
 g the body and letting the dance unfold\, trusting the intelligence inhere
 nt in your own body that is beyond cerebral.\n\nThe class will involve\, e
 lements of solo exploration\, bodywork\, movement scores as well as workin
 g in duets and trios if time permits\, all brought together playful and th
 oughtful way.\nThe Jam\nA jam is an informal gathering of dancers. There i
 s no teacher\, but space and time to develop skills and confidence. You ar
 e free to dance\, rest\, or sit and watch\, as you wish. The jam provides 
 an opportunity to explore and integrate techniques you have learned\, and 
 to find your own routes into dancing.\n\nAt some jams a teacher will facil
 itate a score to follow such as a focused (silent) jam\, the Underscore (d
 eveloped by Nancy Stark-Smith)\, or a blindfold (or eyes-closed) jam\, thi
 s will normally be advertised via our regular mailout – so sign-up if 
 you want advance notice.\n\n 	Live musicians will improvise with the dan
 cing at many of the jams.\n 	For more information\, please email info@cont
 actdance.co.uk or contact the individual teachers.\n
ATTACH;FMTTYPE=image/jpeg:https://contactdance.co.uk/wp-content/uploads/20
 11/07/feet6.jpg
CATEGORIES:CI Jam
LOCATION:DMAC\, (4th Floor) Hamilton House\, 80 Stokes Croft\, Bristol\, BS
 1 3QY\, United Kingdom
GEO:51.4629;-2.58991
X-APPLE-STRUCTURED-LOCATION;VALUE=URI;X-ADDRESS=80 Stokes Croft\, Bristol\,
  BS1 3QY\, United Kingdom;X-APPLE-RADIUS=100;X-TITLE=DMAC\, (4th Floor) Ha
 milton House:geo:51.4629,-2.58991
END:VEVENT
BEGIN:VTIMEZONE
TZID:Europe/London
X-LIC-LOCATION:Europe/London
BEGIN:DAYLIGHT
DTSTART:20180325T020000
TZOFFSETFROM:+0000
TZOFFSETTO:+0100
TZNAME:BST
END:DAYLIGHT
END:VTIMEZONE
END:VCALENDAR