BEGIN:VCALENDAR
VERSION:2.0
PRODID:-//wp-events-plugin.com//7.2.3.1//EN
TZID:Europe/London
X-WR-TIMEZONE:Europe/London
BEGIN:VEVENT
UID:2342@contactdance.co.uk
DTSTART;TZID=Europe/London:20181007T180000
DTEND;TZID=Europe/London:20181007T203000
DTSTAMP:20181002T145257Z
URL:https://contactdance.co.uk/events/bristol-ci-sunday-class-jam-14-2018-
 10-07/
SUMMARY:Bristol CI Sunday Class & Jam - part of the Bristol National Jam we
 ekend - DMAC\, (4th Floor) Hamilton House - 7 Oct 18 18:00
DESCRIPTION:This will be the closing event of the Bristol National Jam 2018
 \, our annual weekend event. This means that timing and pricing are slight
 ly different. The evening will still be open to all on a drop in basis\, w
 hether or not you have attended the rest of the weekend.  For more detail
 s about the Bristol National Jam\, click here.\nClass Description\nThere w
 ill be a 30 minute warm up class leading directly into a silent jam.\n\nTh
 e Jam\nA jam is an informal gathering of dancers. There is no teacher\, bu
 t space and time to develop skills and confidence. You are free to dance\,
  rest\, or sit and watch\, as you wish. The jam provides an opportunity to
  explore and integrate techniques you have learned\, and to find your own 
 routes into dancing.\n\nAt some jams a teacher will facilitate a score to 
 follow such as a focused (silent) jam\, the Underscore (developed by Nancy
  Stark-Smith)\, or a blindfold (or eyes-closed) jam\, this will normally b
 e advertised via our regular mailout – so sign-up if you want advance 
 notice.\n\n 	Live musicians will improvise with the dancing at many of t
 he jams.\n 	For more information\, please email info@contactdance.co.uk or
  contact the individual teachers.\n
ATTACH;FMTTYPE=image/jpeg:https://contactdance.co.uk/wp-content/uploads/20
 11/07/feet6.jpg
CATEGORIES:CI Jam
LOCATION:DMAC\, (4th Floor) Hamilton House\, 80 Stokes Croft\, Bristol\, BS
 1 3QY\, United Kingdom
GEO:51.4629;-2.58991
X-APPLE-STRUCTURED-LOCATION;VALUE=URI;X-ADDRESS=80 Stokes Croft\, Bristol\,
  BS1 3QY\, United Kingdom;X-APPLE-RADIUS=100;X-TITLE=DMAC\, (4th Floor) Ha
 milton House:geo:51.4629,-2.58991
END:VEVENT
BEGIN:VTIMEZONE
TZID:Europe/London
X-LIC-LOCATION:Europe/London
BEGIN:DAYLIGHT
DTSTART:20180325T020000
TZOFFSETFROM:+0000
TZOFFSETTO:+0100
TZNAME:BST
END:DAYLIGHT
END:VTIMEZONE
END:VCALENDAR