BEGIN:VCALENDAR
VERSION:2.0
PRODID:-//wp-events-plugin.com//7.2.3.1//EN
TZID:Europe/London
X-WR-TIMEZONE:Europe/London
BEGIN:VEVENT
UID:2343@contactdance.co.uk
DTSTART;TZID=Europe/London:20181014T170000
DTEND;TZID=Europe/London:20181014T203000
DTSTAMP:20181012T170839Z
URL:https://contactdance.co.uk/events/bristol-ci-sunday-class-jam-14-2018-
 10-14/
SUMMARY:Bristol CI Sunday Class & Jam - DMAC\, (4th Floor) Hamilton House -
  14 Oct 18 17:00
DESCRIPTION:Beginner friendly pre-jam warmup class 5-6.30pm followed by the
  jam 6.30-8.30pm. Doors will be closed for the duration of the class to ke
 ep the focus\, so please arrive early to attend the class\, you can arrive
  at any time for the jam. Dancers can come just for the class\, £6\, or s
 tay for the jam\, £9. You can also book on MoveGB\n\nFor more information
  feel free to contact the teacher/facilitator or info@contactdance.co.uk
 . We send out regular emails of class descriptions\, to get these\, please
  sign-up to our mailing list.\nClass Description\nLayers of the dance\n\
 n\nIn this class I want to look at fascia in the body how it can support u
 s in the dance. The multi directional possibility of movement from the fas
 cia system allow us to move in any direction at any one time\, we can use 
 these possibilities to stay committed to the dance\, to let the body lead 
 us and allow things to unfold form that place.\nThe Jam\nA jam is an infor
 mal gathering of dancers. There is no teacher\, but space and time to deve
 lop skills and confidence. You are free to dance\, rest\, or sit and watch
 \, as you wish. The jam provides an opportunity to explore and integrate t
 echniques you have learned\, and to find your own routes into dancing.\n\n
 At some jams a teacher will facilitate a score to follow such as a focused
  (silent) jam\, the Underscore (developed by Nancy Stark-Smith)\, or a bli
 ndfold (or eyes-closed) jam\, this will normally be advertised via our reg
 ular mailout – so sign-up if you want advance notice.\n\n 	Live music
 ians will improvise with the dancing at many of the jams.\n 	For more inf
 ormation\, please email info@contactdance.co.uk or contact the individual
  teachers.\n
ATTACH;FMTTYPE=image/jpeg:https://contactdance.co.uk/wp-content/uploads/20
 11/07/feet6.jpg
CATEGORIES:CI Jam
LOCATION:DMAC\, (4th Floor) Hamilton House\, 80 Stokes Croft\, Bristol\, BS
 1 3QY\, United Kingdom
GEO:51.4629;-2.58991
X-APPLE-STRUCTURED-LOCATION;VALUE=URI;X-ADDRESS=80 Stokes Croft\, Bristol\,
  BS1 3QY\, United Kingdom;X-APPLE-RADIUS=100;X-TITLE=DMAC\, (4th Floor) Ha
 milton House:geo:51.4629,-2.58991
END:VEVENT
BEGIN:VTIMEZONE
TZID:Europe/London
X-LIC-LOCATION:Europe/London
BEGIN:DAYLIGHT
DTSTART:20180325T020000
TZOFFSETFROM:+0000
TZOFFSETTO:+0100
TZNAME:BST
END:DAYLIGHT
END:VTIMEZONE
END:VCALENDAR