BEGIN:VCALENDAR
VERSION:2.0
PRODID:-//wp-events-plugin.com//7.2.3.1//EN
TZID:Europe/London
X-WR-TIMEZONE:Europe/London
BEGIN:VEVENT
UID:2345@contactdance.co.uk
DTSTART;TZID=Europe/London:20181028T170000
DTEND;TZID=Europe/London:20181028T203000
DTSTAMP:20181026T215305Z
URL:https://contactdance.co.uk/events/bristol-ci-sunday-class-jam-14-2018-
 10-28/
SUMMARY:Bristol CI Sunday Class & Jam - DMAC\, (4th Floor) Hamilton House -
  28 Oct 18 17:00
DESCRIPTION:Beginner friendly pre-jam warmup class 5-6.30pm followed by the
  jam 6.30-8.30pm. Doors will be closed for the duration of the class to ke
 ep the focus\, so please arrive early to attend the class\, you can arrive
  at any time for the jam. Dancers can come just for the class\, £6\, or s
 tay for the jam\, £9. You can also book on MoveGB\n\nFor more information
  feel free to contact the teacher/facilitator or info@contactdance.co.uk
 . We send out regular emails of class descriptions\, to get these\, please
  sign-up to our mailing list.\nClass Description\n\nBody democracy 2 is 
 a follow on class from last week\, where we explored moving away from the 
 primacy of sight and into full embodiment. We explored the idea that the b
 ody is an integrated organism of feeling\, movement and contact and in CI 
 the more we can give ourselves over to this multiplicity of intelligence t
 he more intriguing and connected we can be in our dance. This class is sui
 table for allcomers and those who were not here last week. We will revise 
 things and then take these ideas further into our Contact Improvisation. A
 s before I will try to facilitate in an improvised way to be true to the f
 orm\, I wonder if anyone will draw the anarchy card this week!\n\nThe Jam\
 nA jam is an informal gathering of dancers. There is no teacher\, but spac
 e and time to develop skills and confidence. You are free to dance\, rest\
 , or sit and watch\, as you wish. The jam provides an opportunity to explo
 re and integrate techniques you have learned\, and to find your own routes
  into dancing.\n\nAt some jams a teacher will facilitate a score to follow
  such as a focused (silent) jam\, the Underscore (developed by Nancy Stark
 -Smith)\, or a blindfold (or eyes-closed) jam\, this will normally be adve
 rtised via our regular mailout – so sign-up if you want advance notice
 .\n\n 	Live musicians will improvise with the dancing at many of the jam
 s.\n 	For more information\, please email info@contactdance.co.uk or conta
 ct the individual teachers.\n
ATTACH;FMTTYPE=image/jpeg:https://contactdance.co.uk/wp-content/uploads/20
 11/07/feet6.jpg
CATEGORIES:CI Jam
LOCATION:DMAC\, (4th Floor) Hamilton House\, 80 Stokes Croft\, Bristol\, BS
 1 3QY\, United Kingdom
GEO:51.4629;-2.58991
X-APPLE-STRUCTURED-LOCATION;VALUE=URI;X-ADDRESS=80 Stokes Croft\, Bristol\,
  BS1 3QY\, United Kingdom;X-APPLE-RADIUS=100;X-TITLE=DMAC\, (4th Floor) Ha
 milton House:geo:51.4629,-2.58991
END:VEVENT
BEGIN:VTIMEZONE
TZID:Europe/London
X-LIC-LOCATION:Europe/London
BEGIN:STANDARD
DTSTART:20181028T010000
TZOFFSETFROM:+0100
TZOFFSETTO:+0000
TZNAME:GMT
END:STANDARD
END:VTIMEZONE
END:VCALENDAR