BEGIN:VCALENDAR
VERSION:2.0
PRODID:-//wp-events-plugin.com//7.2.3.1//EN
TZID:Europe/London
X-WR-TIMEZONE:Europe/London
BEGIN:VEVENT
UID:2349@contactdance.co.uk
DTSTART;TZID=Europe/London:20181125T170000
DTEND;TZID=Europe/London:20181125T203000
DTSTAMP:20181124T094042Z
URL:https://contactdance.co.uk/events/bristol-ci-sunday-class-jam-14-2018-
 11-25/
SUMMARY:Bristol CI Sunday Class & Jam - DMAC\, (4th Floor) Hamilton House -
  25 Nov 18 17:00
DESCRIPTION:Beginner friendly pre-jam warmup class 5-6.30pm followed by the
  jam 6.30-8.30pm. Doors will be closed for the duration of the class to ke
 ep the focus\, so please arrive early to attend the class\, you can arrive
  at any time for the jam. Dancers can come just for the class\, £6\, or s
 tay for the jam\, £9. You can also book on MoveGB\n\nFor more information
  feel free to contact the teacher/facilitator or info@contactdance.co.uk
 . We send out regular emails of class descriptions\, to get these\, please
  sign-up to our mailing list.\nClass Description\n\n\nA Moving Conversat
 ion\nDiving into the pool of CI fundamentals we will explore\, the convers
 ation of touch\, moving in contact and how the simple skill of rolling poi
 nt can be the basis of all manner of dances……or as much of this we can
  fit into a class!\n\nCome wanting to Dance!\nLee Bolton\nFor me dance and
  movement can uncover the nature of relationship between things. Connectio
 ns within – fascia and connective tissue for example\, and with others 
 – how is it to meet another\, with ourselves – is it ok to show up as 
 I am\, and with life – letting things be as they are. This is my current
  thread.\n\nI have been dancing and moving for the past 15 years. Ecstatic
  dance\, contact improv\, somatics\, movement in landscape and warm water 
 and it’s all taken me on a journey of personal discovery. I offer space 
 to you for this exploration.\n\nI currently teach Embodied Enquiry and Con
 tact Improv in Bristol and have taught in Europe and Internationally.\n\nw
 ww.embodiedpresence.co.uk\nThe Jam\nA jam is an informal gathering of danc
 ers. There is no teacher\, but space and time to develop skills and confid
 ence. You are free to dance\, rest\, or sit and watch\, as you wish. The j
 am provides an opportunity to explore and integrate techniques you have le
 arned\, and to find your own routes into dancing.\n\nAt some jams a teache
 r will facilitate a score to follow such as a focused (silent) jam\, the U
 nderscore (developed by Nancy Stark-Smith)\, or a blindfold (or eyes-close
 d) jam\, this will normally be advertised via our regular mailout – so 
 sign-up if you want advance notice.\n\n 	Live musicians will improvise 
 with the dancing at many of the jams.\n 	For more information\, please ema
 il info@contactdance.co.uk or contact the individual teachers.\n
ATTACH;FMTTYPE=image/jpeg:https://contactdance.co.uk/wp-content/uploads/20
 11/07/feet6.jpg
CATEGORIES:CI Jam
LOCATION:DMAC\, (4th Floor) Hamilton House\, 80 Stokes Croft\, Bristol\, BS
 1 3QY\, United Kingdom
GEO:51.4629;-2.58991
X-APPLE-STRUCTURED-LOCATION;VALUE=URI;X-ADDRESS=80 Stokes Croft\, Bristol\,
  BS1 3QY\, United Kingdom;X-APPLE-RADIUS=100;X-TITLE=DMAC\, (4th Floor) Ha
 milton House:geo:51.4629,-2.58991
END:VEVENT
BEGIN:VTIMEZONE
TZID:Europe/London
X-LIC-LOCATION:Europe/London
BEGIN:STANDARD
DTSTART:20181028T010000
TZOFFSETFROM:+0100
TZOFFSETTO:+0000
TZNAME:GMT
END:STANDARD
END:VTIMEZONE
END:VCALENDAR