BEGIN:VCALENDAR
VERSION:2.0
PRODID:-//wp-events-plugin.com//7.2.3.1//EN
TZID:Europe/London
X-WR-TIMEZONE:Europe/London
BEGIN:VEVENT
UID:2351@contactdance.co.uk
DTSTART;TZID=Europe/London:20181209T170000
DTEND;TZID=Europe/London:20181209T203000
DTSTAMP:20181205T224119Z
URL:https://contactdance.co.uk/events/bristol-ci-sunday-class-jam-14-2018-
 12-09/
SUMMARY:Bristol CI Sunday Class & Jam: The Underscore - DMAC\, (4th Floor) 
 Hamilton House - 9 Dec 18 17:00
DESCRIPTION:\n\nDMAC Dance Studios\, Hamilton House\nFacilitated by Agniesz
 ka Grenckowska\n£9 or book on MoveGB - please book both class and jam eve
 nts as this week they are combined.\nPlease arrive on time.\n\nThe Undersc
 ore is a framework for practising Contact Improvisation Dance in its broad
 er applications\, invented by Nancy Stark Smith. It offers an opportunity 
 to express the felt kinesthetic selves and the artistic compositional selv
 es as dancers improvise and create movement together and in and out of rel
 ation to the whole.\n\n“There are 20+ phases of the score—each with a 
 name and a graphic symbol—which create a general map for the dancers. Wi
 thin that frame\, dancers are free to create their own movements\, dynamic
 s\, and relationships—with themselves\, each other\, the group\, the mus
 ic\, and the environment. Each Underscore is unique\, providing rich and o
 ften inspiring experiences of the human and artistic phenomena of dance im
 provisation.”\n\nIt is a long dance improvisation score and usually take
 s 3-4 hours. We are going for a 3.5 hr timeframe\, inclusive of approximat
 ely 30 mins talk through the score at 5:00 pm for those who are unfamiliar
  with the Underscore (must attend!).\n\nThe old and new Underscore practit
 ioners will come together at around 5:30 pm in the Assembly (first stage) 
 followed by a Small Dance and next stages of the Underscore.\n\nThere will
  be live improvised music from Mike McClellan on violin and loops.
ATTACH;FMTTYPE=image/jpeg:https://contactdance.co.uk/wp-content/uploads/20
 11/07/feet6.jpg
CATEGORIES:CI Jam
LOCATION:DMAC\, (4th Floor) Hamilton House\, 80 Stokes Croft\, Bristol\, BS
 1 3QY\, United Kingdom
GEO:51.4629;-2.58991
X-APPLE-STRUCTURED-LOCATION;VALUE=URI;X-ADDRESS=80 Stokes Croft\, Bristol\,
  BS1 3QY\, United Kingdom;X-APPLE-RADIUS=100;X-TITLE=DMAC\, (4th Floor) Ha
 milton House:geo:51.4629,-2.58991
END:VEVENT
BEGIN:VTIMEZONE
TZID:Europe/London
X-LIC-LOCATION:Europe/London
BEGIN:STANDARD
DTSTART:20181028T010000
TZOFFSETFROM:+0100
TZOFFSETTO:+0000
TZNAME:GMT
END:STANDARD
END:VTIMEZONE
END:VCALENDAR