BEGIN:VCALENDAR
VERSION:2.0
PRODID:-//wp-events-plugin.com//7.2.3.1//EN
TZID:Europe/London
X-WR-TIMEZONE:Europe/London
BEGIN:VEVENT
UID:2352@contactdance.co.uk
DTSTART;TZID=Europe/London:20181216T170000
DTEND;TZID=Europe/London:20181216T203000
DTSTAMP:20181214T195656Z
URL:https://contactdance.co.uk/events/bristol-ci-sunday-class-jam-14-2018-
 12-16/
SUMMARY:Bristol CI Sunday Class & Jam - DMAC\, (4th Floor) Hamilton House -
  16 Dec 18 17:00
DESCRIPTION:Beginner friendly pre-jam warmup class 5-6.30pm followed by the
  jam 6.30-8.30pm. Doors will be closed for the duration of the class to ke
 ep the focus\, so please arrive early to attend the class\, you can arrive
  at any time for the jam. Dancers can come just for the class\, £6\, or s
 tay for the jam\, £9. You can also book on MoveGB\n\nFor more information
  feel free to contact the teacher/facilitator or info@contactdance.co.uk
 . We send out regular emails of class descriptions\, to get these\, please
  sign-up to our mailing list.\nClass Description\n\nSunday's class will 
 be like a Christmas present - a surprise!We will go in to connect to our s
 elf in the darkness of mid-winter. A resting time to hibernate. We will fi
 nd the heart of the matter\, a spark of connection and inspiration to brin
 g out and shine to others\, opening to dances in the dark or in soft light
 .\n\nThe Jam\nA jam is an informal gathering of dancers. There is no teach
 er\, but space and time to develop skills and confidence. You are free to 
 dance\, rest\, or sit and watch\, as you wish. The jam provides an opportu
 nity to explore and integrate techniques you have learned\, and to find yo
 ur own routes into dancing.\n\nAt some jams a teacher will facilitate a sc
 ore to follow such as a focused (silent) jam\, the Underscore (developed b
 y Nancy Stark-Smith)\, or a blindfold (or eyes-closed) jam\, this will nor
 mally be advertised via our regular mailout – so sign-up if you want a
 dvance notice.\n\n 	Live musicians will improvise with the dancing at ma
 ny of the jams.\n 	For more information\, please email info@contactdance.c
 o.uk or contact the individual teachers.\n
ATTACH;FMTTYPE=image/jpeg:https://contactdance.co.uk/wp-content/uploads/20
 11/07/feet6.jpg
CATEGORIES:CI Jam
LOCATION:DMAC\, (4th Floor) Hamilton House\, 80 Stokes Croft\, Bristol\, BS
 1 3QY\, United Kingdom
GEO:51.4629;-2.58991
X-APPLE-STRUCTURED-LOCATION;VALUE=URI;X-ADDRESS=80 Stokes Croft\, Bristol\,
  BS1 3QY\, United Kingdom;X-APPLE-RADIUS=100;X-TITLE=DMAC\, (4th Floor) Ha
 milton House:geo:51.4629,-2.58991
END:VEVENT
BEGIN:VTIMEZONE
TZID:Europe/London
X-LIC-LOCATION:Europe/London
BEGIN:STANDARD
DTSTART:20181028T010000
TZOFFSETFROM:+0100
TZOFFSETTO:+0000
TZNAME:GMT
END:STANDARD
END:VTIMEZONE
END:VCALENDAR