BEGIN:VCALENDAR
VERSION:2.0
PRODID:-//wp-events-plugin.com//7.2.3.1//EN
TZID:Europe/London
X-WR-TIMEZONE:Europe/London
BEGIN:VEVENT
UID:1493@contactdance.co.uk
DTSTART;TZID=Europe/London:20140112T160000
DTEND;TZID=Europe/London:20140112T190000
DTSTAMP:20140109T175249Z
URL:https://contactdance.co.uk/events/bristol-ci-sunday-class-jam-2-2014-0
 1-12/
SUMMARY:Bristol CI Sunday Class & Jam - DMAC\, (4th Floor) Hamilton House -
  12 Jan 14 16:00
DESCRIPTION:Beginner friendly pre-jam warmup class 4-5pm followed by the ja
 m 5.15-7pm. Doors will be closed for the duration of the class to keep the
  focus\, so please arrive early to attend the class\, you can arrive at an
 y time for the jam. Dancers can come just for the class\, £5\, or stay fo
 r the jam\, £8.\n\nFor more information feel free to contact the teacher/
 facilitator or info@contactdance.co.uk. We send out regular emails of clas
 s descriptions\, to get these\, please sign-up to our mailing list. \nClas
 s Description\nHi\, I'll be leading the warm up / class on Sunday. Last ti
 me I was in Bristol (and at the solstice jam) I was focussing on the 'chem
 istry' end of the contact spectrum. This time I'll explore more at the 'ph
 ysics' end. \n Specifically I want to look at the 'under-dance'\; playing 
 with balance\, and how the two can combine. This can be a gentle approach 
 to aerial dance for those who want to develop in that direction\, or it ca
 n open up new possibilities for those who are tired of the old shoulder lo
 op routine. I'm looking forward to seeing you there x Tariq\n\nThe Jam\nA 
 jam is an informal gathering of dancers. There is no teacher\, but space a
 nd time to develop skills and confidence. You are free to dance\, rest\, o
 r sit and watch\, as you wish. The jam provides an opportunity to explore 
 and integrate techniques you have learned\, and to find your own routes in
 to dancing.\n\nAt some jams a teacher will facilitate a score to follow su
 ch as a focused (silent) jam\, the Underscore (developed by Nancy Stark-Sm
 ith)\, or a blindfold (or eyes-closed) jam\, this will normally be adverti
 sed via our regular mailout – so sign-up if you want advance notice.\n\n
 	Live musicians will improvise with the dancing at many of the jams.\n	For
  more information\, please email info@contactdance.co.uk or contact the in
 dividual teachers.\n
ATTACH;FMTTYPE=image/jpeg:https://contactdance.co.uk/wp-content/uploads/20
 11/06/wsb_282x172_jocasta.jpg
CATEGORIES:CI Jam
LOCATION:DMAC\, (4th Floor) Hamilton House\, 80 Stokes Croft\, Bristol\, BS
 1 3QY\, United Kingdom
GEO:51.4629;-2.58991
X-APPLE-STRUCTURED-LOCATION;VALUE=URI;X-ADDRESS=80 Stokes Croft\, Bristol\,
  BS1 3QY\, United Kingdom;X-APPLE-RADIUS=100;X-TITLE=DMAC\, (4th Floor) Ha
 milton House:geo:51.4629,-2.58991
END:VEVENT
BEGIN:VTIMEZONE
TZID:Europe/London
X-LIC-LOCATION:Europe/London
BEGIN:STANDARD
DTSTART:20131027T010000
TZOFFSETFROM:+0100
TZOFFSETTO:+0000
TZNAME:GMT
END:STANDARD
END:VTIMEZONE
END:VCALENDAR