BEGIN:VCALENDAR
VERSION:2.0
PRODID:-//wp-events-plugin.com//7.2.3.1//EN
TZID:Europe/London
X-WR-TIMEZONE:Europe/London
BEGIN:VEVENT
UID:1496@contactdance.co.uk
DTSTART;TZID=Europe/London:20140202T160000
DTEND;TZID=Europe/London:20140202T190000
DTSTAMP:20140130T170506Z
URL:https://contactdance.co.uk/events/bristol-ci-sunday-class-jam-2-2014-0
 2-02/
SUMMARY:Bristol CI Sunday Class & Jam - DMAC\, (4th Floor) Hamilton House -
  2 Feb 14 16:00
DESCRIPTION:Beginner friendly pre-jam warmup class 4-5pm followed by the ja
 m 5.15-7pm. Doors will be closed for the duration of the class to keep the
  focus\, so please arrive early to attend the class\, you can arrive at an
 y time for the jam. Dancers can come just for the class\, £5\, or stay fo
 r the jam\, £8.\n\nFor more information feel free to contact the teacher/
 facilitator or info@contactdance.co.uk. We send out regular emails of clas
 s descriptions\, to get these\, please sign-up to our mailing list.\nClass
  Description\nMoments and Momentum\nIn my dance\, I find movement that flo
 ws and then there is a moment when everything becomes still. In these mome
 nts there is a three dimensional sense of myself and everything around me.
  I would like to visit this place in our time together. We will begin with
  the floor and work our way out of the floor into playing with momentum\, 
 falls and small flights of fancy. See you there.\nJamus Wood\n\nThe Jam\nA
  jam is an informal gathering of dancers. There is no teacher\, but space 
 and time to develop skills and confidence. You are free to dance\, rest\, 
 or sit and watch\, as you wish. The jam provides an opportunity to explore
  and integrate techniques you have learned\, and to find your own routes i
 nto dancing.\n\nAt some jams a teacher will facilitate a score to follow s
 uch as a focused (silent) jam\, the Underscore (developed by Nancy Stark-S
 mith)\, or a blindfold (or eyes-closed) jam\, this will normally be advert
 ised via our regular mailout – so sign-up if you want advance notice.\n\
 n	Live musicians will improvise with the dancing at many of the jams.\n	Fo
 r more information\, please email info@contactdance.co.uk or contact the i
 ndividual teachers.\n
ATTACH;FMTTYPE=image/jpeg:https://contactdance.co.uk/wp-content/uploads/20
 11/06/wsb_282x172_jocasta.jpg
CATEGORIES:CI Jam
LOCATION:DMAC\, (4th Floor) Hamilton House\, 80 Stokes Croft\, Bristol\, BS
 1 3QY\, United Kingdom
GEO:51.4629;-2.58991
X-APPLE-STRUCTURED-LOCATION;VALUE=URI;X-ADDRESS=80 Stokes Croft\, Bristol\,
  BS1 3QY\, United Kingdom;X-APPLE-RADIUS=100;X-TITLE=DMAC\, (4th Floor) Ha
 milton House:geo:51.4629,-2.58991
END:VEVENT
BEGIN:VTIMEZONE
TZID:Europe/London
X-LIC-LOCATION:Europe/London
BEGIN:STANDARD
DTSTART:20131027T010000
TZOFFSETFROM:+0100
TZOFFSETTO:+0000
TZNAME:GMT
END:STANDARD
END:VTIMEZONE
END:VCALENDAR