BEGIN:VCALENDAR
VERSION:2.0
PRODID:-//wp-events-plugin.com//7.2.3.1//EN
TZID:Europe/London
X-WR-TIMEZONE:Europe/London
BEGIN:VEVENT
UID:1497@contactdance.co.uk
DTSTART;TZID=Europe/London:20140209T160000
DTEND;TZID=Europe/London:20140209T190000
DTSTAMP:20140209T100524Z
URL:https://contactdance.co.uk/events/bristol-ci-sunday-class-jam-2-2014-0
 2-09/
SUMMARY:Bristol CI Sunday Class & Jam - DMAC\, (4th Floor) Hamilton House -
  9 Feb 14 16:00
DESCRIPTION:Beginner friendly pre-jam warmup class 4-5pm followed by the ja
 m 5.15-7pm. Doors will be closed for the duration of the class to keep the
  focus\, so please arrive early to attend the class\, you can arrive at an
 y time for the jam. Dancers can come just for the class\, £5\, or stay fo
 r the jam\, £8.\n\nFor more information feel free to contact the teacher/
 facilitator or info@contactdance.co.uk. We send out regular emails of clas
 s descriptions\, to get these\, please sign-up to our mailing list.\nClass
  Description\nI will be leading the class this week. During the class we w
 ill explore our shared perception within our dance. Working with eyes clos
 ed\; we will begin to listen to and describe our dance. This workshop will
  be acessible to people with a visual impairment. If you would like to dis
 cuss any access requirements that you may have\, prior to the class please
  email me.\nHolly Thomas \nholly.bristol@btinternet.com\n\nThe Jam\nA jam
  is an informal gathering of dancers. There is no teacher\, but space and 
 time to develop skills and confidence. You are free to dance\, rest\, or s
 it and watch\, as you wish. The jam provides an opportunity to explore and
  integrate techniques you have learned\, and to find your own routes into 
 dancing.\n\nAt some jams a teacher will facilitate a score to follow such 
 as a focused (silent) jam\, the Underscore (developed by Nancy Stark-Smith
 )\, or a blindfold (or eyes-closed) jam\, this will normally be advertised
  via our regular mailout – so sign-up if you want advance notice.\n\n	Li
 ve musicians will improvise with the dancing at many of the jams.\n	For mo
 re information\, please email info@contactdance.co.uk or contact the indiv
 idual teachers.\n
ATTACH;FMTTYPE=image/jpeg:https://contactdance.co.uk/wp-content/uploads/20
 11/06/wsb_282x172_jocasta.jpg
CATEGORIES:CI Jam
LOCATION:DMAC\, (4th Floor) Hamilton House\, 80 Stokes Croft\, Bristol\, BS
 1 3QY\, United Kingdom
GEO:51.4629;-2.58991
X-APPLE-STRUCTURED-LOCATION;VALUE=URI;X-ADDRESS=80 Stokes Croft\, Bristol\,
  BS1 3QY\, United Kingdom;X-APPLE-RADIUS=100;X-TITLE=DMAC\, (4th Floor) Ha
 milton House:geo:51.4629,-2.58991
END:VEVENT
BEGIN:VTIMEZONE
TZID:Europe/London
X-LIC-LOCATION:Europe/London
BEGIN:STANDARD
DTSTART:20131027T010000
TZOFFSETFROM:+0100
TZOFFSETTO:+0000
TZNAME:GMT
END:STANDARD
END:VTIMEZONE
END:VCALENDAR