BEGIN:VCALENDAR
VERSION:2.0
PRODID:-//wp-events-plugin.com//7.2.3.1//EN
TZID:Europe/London
X-WR-TIMEZONE:Europe/London
BEGIN:VEVENT
UID:1499@contactdance.co.uk
DTSTART;TZID=Europe/London:20140223T160000
DTEND;TZID=Europe/London:20140223T190000
DTSTAMP:20140218T120051Z
URL:https://contactdance.co.uk/events/bristol-ci-sunday-class-jam-2-2014-0
 2-23/
SUMMARY:UNDERSCORE - DMAC\, (4th Floor) Hamilton House - 23 Feb 14 16:00
DESCRIPTION:This format is different to our regular Sunday class and jam. 
 You will be expected to stay for the whole 3 hours and to arrive on time\,
  4pm.\nWhat is an Underscore?\nThe Underscore is a framework for practicin
 g and researching dance improvisation that Nancy Stark Smith has been de
 veloping since 1990 based on her work with Contact Improvisation. It is a 
 long jamming/CI/improvisation score that guides dancers through a series o
 f “changing states”—from solo relaxation and sensitizing to gravity 
 and support\, through group circulation and interaction\, to contact impro
 visation engagements\, then opening out to full group improvisation\, and 
 back to rest and reflection.\n\nFor more Information go to www.nancystark
 smith.com/underscore
ATTACH;FMTTYPE=image/jpeg:https://contactdance.co.uk/wp-content/uploads/20
 11/06/wsb_282x172_jocasta.jpg
CATEGORIES:CI Jam
LOCATION:DMAC\, (4th Floor) Hamilton House\, 80 Stokes Croft\, Bristol\, BS
 1 3QY\, United Kingdom
GEO:51.4629;-2.58991
X-APPLE-STRUCTURED-LOCATION;VALUE=URI;X-ADDRESS=80 Stokes Croft\, Bristol\,
  BS1 3QY\, United Kingdom;X-APPLE-RADIUS=100;X-TITLE=DMAC\, (4th Floor) Ha
 milton House:geo:51.4629,-2.58991
END:VEVENT
BEGIN:VTIMEZONE
TZID:Europe/London
X-LIC-LOCATION:Europe/London
BEGIN:STANDARD
DTSTART:20131027T010000
TZOFFSETFROM:+0100
TZOFFSETTO:+0000
TZNAME:GMT
END:STANDARD
END:VTIMEZONE
END:VCALENDAR