BEGIN:VCALENDAR
VERSION:2.0
PRODID:-//wp-events-plugin.com//7.2.3.1//EN
TZID:Europe/London
X-WR-TIMEZONE:Europe/London
BEGIN:VEVENT
UID:1502@contactdance.co.uk
DTSTART;TZID=Europe/London:20140316T160000
DTEND;TZID=Europe/London:20140316T190000
DTSTAMP:20140314T091215Z
URL:https://contactdance.co.uk/events/bristol-ci-sunday-class-jam-2-2014-0
 3-16/
SUMMARY:Bristol CI Sunday Class & Jam - DMAC\, (4th Floor) Hamilton House -
  16 Mar 14 16:00
DESCRIPTION:Beginner friendly pre-jam warmup class 4-5pm followed by the ja
 m 5.15-7pm. Doors will be closed for the duration of the class to keep the
  focus\, so please arrive early to attend the class\, you can arrive at an
 y time for the jam. Dancers can come just for the class\, £5\, or stay fo
 r the jam\, £8.\n\nFor more information feel free to contact the teacher/
 facilitator or info@contactdance.co.uk. We send out regular emails of clas
 s descriptions\, to get these\, please sign-up to our mailing list.\nClass
  Description\nUpside Down Together\nIn this class we will look at ways of 
 using each others support to travel through headstand and handstand positi
 ons. This is good for people who are frightened of handstands\, or headsta
 nds\, well versed or anywhere else in between. You can also do the class w
 ith whatever energy you have soft and squidgy or springy and bouncy!\nIt f
 ollows on well from the backspace class as we use a lot of back space in t
 he exercises\n\nThe Jam\nA jam is an informal gathering of dancers. There 
 is no teacher\, but space and time to develop skills and confidence. You a
 re free to dance\, rest\, or sit and watch\, as you wish. The jam provides
  an opportunity to explore and integrate techniques you have learned\, and
  to find your own routes into dancing.\n\nAt some jams a teacher will faci
 litate a score to follow such as a focused (silent) jam\, the Underscore (
 developed by Nancy Stark-Smith)\, or a blindfold (or eyes-closed) jam\, th
 is will normally be advertised via our regular mailout – so sign-up if y
 ou want advance notice.\n\n	Live musicians will improvise with the dancing
  at many of the jams.\n	For more information\, please email info@contactda
 nce.co.uk or contact the individual teachers.\n
ATTACH;FMTTYPE=image/jpeg:https://contactdance.co.uk/wp-content/uploads/20
 11/06/wsb_282x172_jocasta.jpg
CATEGORIES:CI Jam
LOCATION:DMAC\, (4th Floor) Hamilton House\, 80 Stokes Croft\, Bristol\, BS
 1 3QY\, United Kingdom
GEO:51.4629;-2.58991
X-APPLE-STRUCTURED-LOCATION;VALUE=URI;X-ADDRESS=80 Stokes Croft\, Bristol\,
  BS1 3QY\, United Kingdom;X-APPLE-RADIUS=100;X-TITLE=DMAC\, (4th Floor) Ha
 milton House:geo:51.4629,-2.58991
END:VEVENT
BEGIN:VTIMEZONE
TZID:Europe/London
X-LIC-LOCATION:Europe/London
BEGIN:STANDARD
DTSTART:20131027T010000
TZOFFSETFROM:+0100
TZOFFSETTO:+0000
TZNAME:GMT
END:STANDARD
END:VTIMEZONE
END:VCALENDAR