BEGIN:VCALENDAR
VERSION:2.0
PRODID:-//wp-events-plugin.com//7.2.3.1//EN
TZID:Europe/London
X-WR-TIMEZONE:Europe/London
BEGIN:VEVENT
UID:1504@contactdance.co.uk
DTSTART;TZID=Europe/London:20140330T160000
DTEND;TZID=Europe/London:20140330T190000
DTSTAMP:20140325T221029Z
URL:https://contactdance.co.uk/events/bristol-ci-sunday-class-jam-2-2014-0
 3-30/
SUMMARY:Bristol CI Sunday Class & Jam - DMAC\, (4th Floor) Hamilton House -
  30 Mar 14 16:00
DESCRIPTION:Beginner friendly pre-jam warmup class 4-5pm followed by the ja
 m 5.15-7pm. Doors will be closed for the duration of the class to keep the
  focus\, so please arrive early to attend the class\, you can arrive at an
 y time for the jam. Dancers can come just for the class\, £5\, or stay fo
 r the jam\, £8.\n\nFor more information feel free to contact the teacher/
 facilitator or info@contactdance.co.uk. We send out regular emails of clas
 s descriptions\, to get these\, please sign-up to our mailing list.\nClass
  Description\nOpening the Chest\n\nWeaving Pilates\, somatic exploration a
 nd pair work we will focus on movement in shoulder girdle and thoracic spi
 ne to help us reach upwards\, outwards and beyond. I am currently completi
 ng my Pilates teacher training at the Scott Studio\, and this class is par
 t of my research on how to teach Pilates in the context of dance improvisa
 tion.\nThe Jam\nA jam is an informal gathering of dancers. There is no tea
 cher\, but space and time to develop skills and confidence. You are free t
 o dance\, rest\, or sit and watch\, as you wish. The jam provides an oppor
 tunity to explore and integrate techniques you have learned\, and to find 
 your own routes into dancing.\n\nAt some jams a teacher will facilitate a 
 score to follow such as a focused (silent) jam\, the Underscore (developed
  by Nancy Stark-Smith)\, or a blindfold (or eyes-closed) jam\, this will n
 ormally be advertised via our regular mailout – so sign-up if you want a
 dvance notice.\n\n	Live musicians will improvise with the dancing at many 
 of the jams.\n	For more information\, please email info@contactdance.co.uk
  or contact the individual teachers.\n
ATTACH;FMTTYPE=image/jpeg:https://contactdance.co.uk/wp-content/uploads/20
 11/06/wsb_282x172_jocasta.jpg
CATEGORIES:CI Jam
LOCATION:DMAC\, (4th Floor) Hamilton House\, 80 Stokes Croft\, Bristol\, BS
 1 3QY\, United Kingdom
GEO:51.4629;-2.58991
X-APPLE-STRUCTURED-LOCATION;VALUE=URI;X-ADDRESS=80 Stokes Croft\, Bristol\,
  BS1 3QY\, United Kingdom;X-APPLE-RADIUS=100;X-TITLE=DMAC\, (4th Floor) Ha
 milton House:geo:51.4629,-2.58991
END:VEVENT
BEGIN:VTIMEZONE
TZID:Europe/London
X-LIC-LOCATION:Europe/London
BEGIN:DAYLIGHT
DTSTART:20140330T020000
TZOFFSETFROM:+0000
TZOFFSETTO:+0100
TZNAME:BST
END:DAYLIGHT
END:VTIMEZONE
END:VCALENDAR