BEGIN:VCALENDAR
VERSION:2.0
PRODID:-//wp-events-plugin.com//7.2.3.1//EN
TZID:Europe/London
X-WR-TIMEZONE:Europe/London
BEGIN:VEVENT
UID:1369@contactdance.co.uk
DTSTART;TZID=Europe/London:20130908T173000
DTEND;TZID=Europe/London:20130908T203000
DTSTAMP:20130905T092831Z
URL:https://contactdance.co.uk/events/bristol-ci-sunday-class-jam-2013-09-
 08/
SUMMARY:Bristol CI Sunday Class & Jam - DMAC\, (4th Floor) Hamilton House -
  8 Sep 13 17:30
DESCRIPTION:Beginner friendly pre-jam warmup class 5.30-6.30pm followed by 
 the jam 6.45-8.30pm. Doors will be closed for the duration of the class to
  keep the focus\, so please arrive early to attend the class\, you can arr
 ive at any time for the jam. Dancers can come just for the class\, £5\, o
 r stay for the jam\, £8.\n\nFor more information feel free to contact the
  teacher/facilitator or info@contactdance.co.uk. We send out regular email
 s of class descriptions\, to get these\, please sign-up to our mailing lis
 t.\nClass Description\nA fascia-nating dance: An Experiential journey into
  the connective tissue of the body. In this class we will go into some inv
 estigation of our fascia system. "A structure of connective tissue that 
 surrounds muscles\, groups of muscles\, blood vessels\, and nerves\, bindi
 ng some structures together\, while permitting others to slide smoothly ov
 er each other."  ( wikipedia ) Through some hands on work\, along with s
 ome visualisations we shall develop an awareness of how it is to move wit
 h these qualities as a contact dancer.\nThe Jam\nA jam is an informal gath
 ering of dancers. There is no teacher\, but space and time to develop skil
 ls and confidence. You are free to dance\, rest\, or sit and watch\, as yo
 u wish. The jam provides an opportunity to explore and integrate technique
 s you have learned\, and to find your own routes into dancing.\n\nAt some 
 jams a teacher will facilitate a score to follow such as a focused (silent
 ) jam\, the Underscore (developed by Nancy Stark-Smith)\, or a blindfold (
 or eyes-closed) jam\, this will normally be advertised via our regular mai
 lout – so sign-up if you want advance notice.\n\n	Live musicians will im
 provise with the dancing at many of the jams.\n	For more information\, ple
 ase email info@contactdance.co.uk or contact the individual teachers.\n
ATTACH;FMTTYPE=image/jpeg:https://contactdance.co.uk/wp-content/uploads/lo
 cations-pics/event-211-e1416260660609.jpg
CATEGORIES:CI Jam
LOCATION:DMAC\, (4th Floor) Hamilton House\, 80 Stokes Croft\, Bristol\, BS
 1 3QY\, United Kingdom
GEO:51.4629;-2.58991
X-APPLE-STRUCTURED-LOCATION;VALUE=URI;X-ADDRESS=80 Stokes Croft\, Bristol\,
  BS1 3QY\, United Kingdom;X-APPLE-RADIUS=100;X-TITLE=DMAC\, (4th Floor) Ha
 milton House:geo:51.4629,-2.58991
END:VEVENT
BEGIN:VTIMEZONE
TZID:Europe/London
X-LIC-LOCATION:Europe/London
BEGIN:DAYLIGHT
DTSTART:20130331T020000
TZOFFSETFROM:+0000
TZOFFSETTO:+0100
TZNAME:BST
END:DAYLIGHT
END:VTIMEZONE
END:VCALENDAR