BEGIN:VCALENDAR
VERSION:2.0
PRODID:-//wp-events-plugin.com//7.2.3.1//EN
TZID:Europe/London
X-WR-TIMEZONE:Europe/London
BEGIN:VEVENT
UID:1371@contactdance.co.uk
DTSTART;TZID=Europe/London:20130922T140000
DTEND;TZID=Europe/London:20130922T170000
DTSTAMP:20130920T114035Z
URL:https://contactdance.co.uk/events/bristol-ci-sunday-class-jam-2013-09-
 22/
SUMMARY:Bristol CI Sunday Class & Jam * EARLY EDITION * - DMAC\, (4th Floor
 ) Hamilton House - 22 Sep 13 14:00
DESCRIPTION:We are trying out a series of monthly earlier Sunday class &amp
 \; jams to enable dancers with children to come\, and bring their children
  too if they want. This is the first one!\n\nBeginner friendly pre-jam war
 mup class 2-3pm followed by the jam 3-5pm. Children Welcome. Doors will be
  closed for the duration of the class to keep the focus\, so please arrive
  early to attend the class\, you can arrive at any time for the jam. Dance
 rs can come just for the class\, £5\, or stay for the jam\, £8.\n\nFor m
 ore information feel free to contact the teacher/facilitator or info@conta
 ctdance.co.uk. We send out regular emails of class descriptions\, to get t
 hese\, please sign-up to our mailing list.\nClass Description - Suitable f
 or All\n\n\n\nBody Structures part 1. Taking Root (to Fly) [* part 2 next 
 week... ]\nIn the class we will spend the majority of time “taking root
 ” in the dance floor and only then we begin to explore ways of rising of
 f the floor. We will use various imagery tools to arrive in the body in th
 e solo work: body carthography\, bone meditations and partner work: explor
 ing landscapes. As the floor work continues we will engage in body round d
 ances.\nThe class covers grounds of experiential anatomy\, perception\, pr
 oprioception and multidimensionality.\nAgnieszka\nNote: As this is an earl
 y class time slot we encourage children to join us and we embrace their pr
 esence in the dance space. We will use the following statements as a guide
 line for all of us moving together:\n\n\nSuitable for All class – Vision
  Statements:\n1. Parents/carers of younger ones are the co facilitators of
  the class. The teacher’s role is to flag up situations where it might b
 e unsafe to proceed with movement.\n2. Safety is a joint responsibility of
  all in the space. We are all aware of what is happening in us and around 
 us.\n3. For the younger ones we allocate a protected quiet base in the dan
 ce space\, where non messy snacks\, art materials and soft toys can be fou
 nd.\n4. When it gets to class to jam transition time it is solely down to 
 parents/carers to take responsibility for the younger ones. We all continu
 e to keep awareness of safety and the protected quiet base remains unchang
 ed. \n\n\nPlease arrive early so we can start promptly at 2pm. DOORS WILL 
 BE CLOSED BETWEEN 2-3PM SO AS NOT TO INTERRUPT THE CLASS\n\n\nThe Jam\nA j
 am is an informal gathering of dancers. There is no teacher\, but space an
 d time to develop skills and confidence. You are free to dance\, rest\, or
  sit and watch\, as you wish. The jam provides an opportunity to explore a
 nd integrate techniques you have learned\, and to find your own routes int
 o dancing.\n\nAt some jams a teacher will facilitate a score to follow suc
 h as a focused (silent) jam\, the Underscore (developed by Nancy Stark-Smi
 th)\, or a blindfold (or eyes-closed) jam\, this will normally be advertis
 ed via our regular mailout – so sign-up if you want advance notice.\n\n	
 Live musicians will improvise with the dancing at many of the jams.\n	For 
 more information\, please email info@contactdance.co.uk or contact the ind
 ividual teachers.\n
ATTACH;FMTTYPE=image/jpeg:https://contactdance.co.uk/wp-content/uploads/lo
 cations-pics/event-211-e1416260660609.jpg
CATEGORIES:CI Jam
LOCATION:DMAC\, (4th Floor) Hamilton House\, 80 Stokes Croft\, Bristol\, BS
 1 3QY\, United Kingdom
GEO:51.4629;-2.58991
X-APPLE-STRUCTURED-LOCATION;VALUE=URI;X-ADDRESS=80 Stokes Croft\, Bristol\,
  BS1 3QY\, United Kingdom;X-APPLE-RADIUS=100;X-TITLE=DMAC\, (4th Floor) Ha
 milton House:geo:51.4629,-2.58991
END:VEVENT
BEGIN:VTIMEZONE
TZID:Europe/London
X-LIC-LOCATION:Europe/London
BEGIN:DAYLIGHT
DTSTART:20130331T020000
TZOFFSETFROM:+0000
TZOFFSETTO:+0100
TZNAME:BST
END:DAYLIGHT
END:VTIMEZONE
END:VCALENDAR