BEGIN:VCALENDAR
VERSION:2.0
PRODID:-//wp-events-plugin.com//7.2.3.1//EN
TZID:Europe/London
X-WR-TIMEZONE:Europe/London
BEGIN:VEVENT
UID:1373@contactdance.co.uk
DTSTART;TZID=Europe/London:20131006T140000
DTEND;TZID=Europe/London:20131006T170000
DTSTAMP:20131003T133331Z
URL:https://contactdance.co.uk/events/bristol-ci-sunday-class-jam-2013-10-
 06/
SUMMARY:Bristol CI Sunday Class & Jam * EARLY EDITION * - DMAC\, (4th Floor
 ) Hamilton House - 6 Oct 13 14:00
DESCRIPTION:We are trying out a series of monthly earlier Sunday class &amp
 \; jams to enable dancers with children to come\, and bring their children
  too if they want.\n\nBeginner friendly pre-jam warmup class 2-3pm followe
 d by the jam 3-5pm. Children Welcome. Doors will be closed for the duratio
 n of the class to keep the focus\, so please arrive early to attend the cl
 ass\, you can arrive at any time for the jam. Dancers can come just for th
 e class\, £5\, or stay for the jam\, £8.\n\nFor more information feel fr
 ee to contact the teacher/facilitator or info@contactdance.co.uk. We send 
 out regular emails of class descriptions\, to get these\, please sign-up t
 o our mailing list.\nClass Description\nInterruption: keeping open and sof
 t - class taken by Lisa and Poppy\nThe Jam\nA jam is an informal gathering
  of dancers. There is no teacher\, but space and time to develop skills an
 d confidence. You are free to dance\, rest\, or sit and watch\, as you wis
 h. The jam provides an opportunity to explore and integrate techniques you
  have learned\, and to find your own routes into dancing.\n\nAt some jams 
 a teacher will facilitate a score to follow such as a focused (silent) jam
 \, the Underscore (developed by Nancy Stark-Smith)\, or a blindfold (or ey
 es-closed) jam\, this will normally be advertised via our regular mailout 
 – so sign-up if you want advance notice.\n\n	Live musicians will improvi
 se with the dancing at many of the jams.\n	For more information\, please e
 mail info@contactdance.co.uk or contact the individual teachers.\n
ATTACH;FMTTYPE=image/jpeg:https://contactdance.co.uk/wp-content/uploads/lo
 cations-pics/event-211-e1416260660609.jpg
CATEGORIES:CI Jam
LOCATION:DMAC\, (4th Floor) Hamilton House\, 80 Stokes Croft\, Bristol\, BS
 1 3QY\, United Kingdom
GEO:51.4629;-2.58991
X-APPLE-STRUCTURED-LOCATION;VALUE=URI;X-ADDRESS=80 Stokes Croft\, Bristol\,
  BS1 3QY\, United Kingdom;X-APPLE-RADIUS=100;X-TITLE=DMAC\, (4th Floor) Ha
 milton House:geo:51.4629,-2.58991
END:VEVENT
BEGIN:VTIMEZONE
TZID:Europe/London
X-LIC-LOCATION:Europe/London
BEGIN:DAYLIGHT
DTSTART:20130331T020000
TZOFFSETFROM:+0000
TZOFFSETTO:+0100
TZNAME:BST
END:DAYLIGHT
END:VTIMEZONE
END:VCALENDAR