BEGIN:VCALENDAR
VERSION:2.0
PRODID:-//wp-events-plugin.com//7.2.3.1//EN
TZID:Europe/London
X-WR-TIMEZONE:Europe/London
BEGIN:VEVENT
UID:1377@contactdance.co.uk
DTSTART;TZID=Europe/London:20131103T173000
DTEND;TZID=Europe/London:20131103T203000
DTSTAMP:20131031T103600Z
URL:https://contactdance.co.uk/events/bristol-ci-sunday-class-jam-2013-11-
 03/
SUMMARY:Bristol CI Sunday Class & Jam - DMAC\, (4th Floor) Hamilton House -
  3 Nov 13 17:30
DESCRIPTION:Beginner friendly pre-jam warmup class 5.30-6.30pm followed by 
 the jam 6.45-8.30pm. Doors will be closed for the duration of the class to
  keep the focus\, so please arrive early to attend the class\, you can arr
 ive at any time for the jam. Dancers can come just for the class\, £5\, o
 r stay for the jam\, £8.\n\nFor more information feel free to contact the
  teacher/facilitator or info@contactdance.co.uk. We send out regular email
 s of class descriptions\, to get these\, please sign-up to our mailing lis
 t.\nClass Description\nThe Spaces in Between\nWhen dancing in contact with
  each other our kine spheres merge\, creating a relationship that supports
  our bodies moving in space where our individual structures organize thems
 elves in a collaboration to defy gravity.\nIn this warm up class I would l
 ike to pay attention and explore the space 'in between' our bodies moving\
 , developing and awareness of the contextual space around us as well as of
  our individual spaces and how these influence each other in the overall d
 ance.We will explore this through exercises with voice and movement\, allo
 wing sound to be part of the dance.\n\n&nbsp\;\nThe Jam\nA jam is an infor
 mal gathering of dancers. There is no teacher\, but space and time to deve
 lop skills and confidence. You are free to dance\, rest\, or sit and watch
 \, as you wish. The jam provides an opportunity to explore and integrate t
 echniques you have learned\, and to find your own routes into dancing.\n\n
 At some jams a teacher will facilitate a score to follow such as a focused
  (silent) jam\, the Underscore (developed by Nancy Stark-Smith)\, or a bli
 ndfold (or eyes-closed) jam\, this will normally be advertised via our reg
 ular mailout – so sign-up if you want advance notice.\n\n	Live musicians
  will improvise with the dancing at many of the jams.\n	For more informati
 on\, please email info@contactdance.co.uk or contact the individual teache
 rs.\n
ATTACH;FMTTYPE=image/jpeg:https://contactdance.co.uk/wp-content/uploads/lo
 cations-pics/event-211-e1416260660609.jpg
CATEGORIES:CI Jam
LOCATION:DMAC\, (4th Floor) Hamilton House\, 80 Stokes Croft\, Bristol\, BS
 1 3QY\, United Kingdom
GEO:51.4629;-2.58991
X-APPLE-STRUCTURED-LOCATION;VALUE=URI;X-ADDRESS=80 Stokes Croft\, Bristol\,
  BS1 3QY\, United Kingdom;X-APPLE-RADIUS=100;X-TITLE=DMAC\, (4th Floor) Ha
 milton House:geo:51.4629,-2.58991
END:VEVENT
BEGIN:VTIMEZONE
TZID:Europe/London
X-LIC-LOCATION:Europe/London
BEGIN:STANDARD
DTSTART:20131027T010000
TZOFFSETFROM:+0100
TZOFFSETTO:+0000
TZNAME:GMT
END:STANDARD
END:VTIMEZONE
END:VCALENDAR