BEGIN:VCALENDAR
VERSION:2.0
PRODID:-//wp-events-plugin.com//7.2.3.1//EN
TZID:Europe/London
X-WR-TIMEZONE:Europe/London
BEGIN:VEVENT
UID:1382@contactdance.co.uk
DTSTART;TZID=Europe/London:20131208T173000
DTEND;TZID=Europe/London:20131208T203000
DTSTAMP:20131121T112808Z
URL:https://contactdance.co.uk/events/bristol-ci-sunday-class-jam-2013-12-
 08/
SUMMARY:Bristol CI Sunday Class & Jam - DMAC\, (4th Floor) Hamilton House -
  8 Dec 13 17:30
DESCRIPTION:Beginner friendly pre-jam warmup class 5.30-6.30pm followed by 
 the jam 6.45-8.30pm. Doors will be closed for the duration of the class to
  keep the focus\, so please arrive early to attend the class\, you can arr
 ive at any time for the jam. Dancers can come just for the class\, £5\, o
 r stay for the jam\, £8.\n\nFor more information feel free to contact the
  teacher/facilitator or info@contactdance.co.uk. We send out regular email
 s of class descriptions\, to get these\, please sign-up to our mailing lis
 t.\nClass Description\nPathways of supportBy tracking the pathways that ru
 n around our boney structure of the shoulder girdle and the pelvis\, we ca
 n find new ways to give and receive support whilst we dance. I'd like also
  to explore the pathways that run through the crossing muscles groups in o
 ur trunk to link up with our shoulder girdle and pelvis. Finding the cross
  cross matrix of support that lives in our whole torso from our shoulders 
 to our pelvis.\nThe Jam\nA jam is an informal gathering of dancers. There 
 is no teacher\, but space and time to develop skills and confidence. You a
 re free to dance\, rest\, or sit and watch\, as you wish. The jam provides
  an opportunity to explore and integrate techniques you have learned\, and
  to find your own routes into dancing.\n\nAt some jams a teacher will faci
 litate a score to follow such as a focused (silent) jam\, the Underscore (
 developed by Nancy Stark-Smith)\, or a blindfold (or eyes-closed) jam\, th
 is will normally be advertised via our regular mailout – so sign-up if y
 ou want advance notice.\n\n	Live musicians will improvise with the dancing
  at many of the jams.\n	For more information\, please email info@contactda
 nce.co.uk or contact the individual teachers.\n
ATTACH;FMTTYPE=image/jpeg:https://contactdance.co.uk/wp-content/uploads/lo
 cations-pics/event-211-e1416260660609.jpg
CATEGORIES:CI Jam
LOCATION:DMAC\, (4th Floor) Hamilton House\, 80 Stokes Croft\, Bristol\, BS
 1 3QY\, United Kingdom
GEO:51.4629;-2.58991
X-APPLE-STRUCTURED-LOCATION;VALUE=URI;X-ADDRESS=80 Stokes Croft\, Bristol\,
  BS1 3QY\, United Kingdom;X-APPLE-RADIUS=100;X-TITLE=DMAC\, (4th Floor) Ha
 milton House:geo:51.4629,-2.58991
END:VEVENT
BEGIN:VTIMEZONE
TZID:Europe/London
X-LIC-LOCATION:Europe/London
BEGIN:STANDARD
DTSTART:20131027T010000
TZOFFSETFROM:+0100
TZOFFSETTO:+0000
TZNAME:GMT
END:STANDARD
END:VTIMEZONE
END:VCALENDAR